Workbook
Name AArtVeranstaltung: #REF!
Name AArtVeranstaltung: #REF!
Name ArtMaßnahme: #REF!
Name ArtMaßnahme: #REF!
Name ArtMaßnahme: #REF!
Name ArtMaßnahme: #REF!
Name ArtMaßnahme: #REF!
Name ArtMaßnahme: #REF!
Name ArtVeranstaltung: #REF!
Name ArtVeranstaltung: #REF!
Name ArtVeranstaltung: #REF!
Name ArtVeranstaltung: #REF!
Name ArtVeranstaltung: #REF!
Name ArtVeranstaltung: #REF!
Name fdhslgfslghj: #REF!
Name fdhslgfslghj: #REF!
Name fdhslgfslghj: #REF!
Name fdhslgfslghj: #REF!
Name fdhslgfslghj: #REF!
Name kkkk: #REF!
Name kkkk: #REF!
Name kkkk: #REF!
Name kkkk: #REF!
Name kkkk: #REF!
Name kkkk: #REF!
Name ldflg: #REF!
Name ldflg: #REF!
Name ldflg: #REF!
Name ldflg: #REF!
Name ldflg: #REF!
Name lfhalgkh: #REF!
Name lfhalgkh: #REF!
Name lfhalgkh: #REF!
Name lfhalgkh: #REF!
Name lfhalgkh: #REF!
Name Print_Area: '0 Anleitung'!$D$33:$S$87
Name Print_Area: '1 Antragsteller-DATEN'!$D$33:$X$72
Name Print_Area: '2 Antrag'!$D$40:$X$64
Name Print_Area: '3.1 Abrechnung-DATEN'!$D$40:$X$64
Name Print_Titles: '0 Anleitung'!$D:$G
Name Print_Titles: '1 Antragsteller-DATEN'!$D:$L
Name Print_Titles: '2 Antrag'!$D:$L
Name Print_Titles: '3.1 Abrechnung-DATEN'!$D:$L

Sheet 0 Anleitung
D3: ANLEITUNG - Datei Richtlinie D
W4: =ROHDATEN!B3 -> Dateiversion: 15.12.2025
D7: Arbeiten mit den Excel-Arbeitsblättern (Registern)
D9: Excel ist eine Tabellenkalkulationsprogramm das umfangreiche Berechnungen ermöglicht, über Datenbankfunktionen verfügt und Texte miteinander verketten kann.
D10: Der Arbeitsbereich einer Excel-Datei gliedert sich in Arbeitsblätter (Register), die Arbeitsblätter bestehen aus Zellen in die Daten oder auch Texte eingegeben werden können.
D11: Excel kann mit den Zellinhalten Berechnungen, Verkettungen oder Zuordnungen durchführen.
D13: Die Arbeitsblätter (Register) können mit dem Mauszeiger (Cursor) ausgewählt werden, die Register werden am unteren Rand des Excel-Arbeitsfensters angezeigt.
D14: Mit dem Mauszeiger auf das gewünschte Arbeitsblatt zeigen und mit Klick auf die linke Maustaste auswählen. Zwischen den Arbeitsblättern kann beliebig gewechselt werden.
D21: Die vorliegende Excel-Datei gliedert sich in folgende Arbeitsblätter, sie führen durch den Prozess der Beantragung und Abrechnung von Maßnahmen gemäß Richtlinie D (RL D).
D23: 0 Anleitung
E25: Hier sind Hinweise zur Nutzung der Excel-Datei zu finden.
D27: 1 Antragssteller-DATEN
E29: Dieses Arbeitsblatt dient ausschließlich der Dateneingabe, es soll nicht ausgedruckt werden.
E30: Der Antragsteller muss seine Adresse, eine Kontaktperson sowie die Bankverbindung eintragen, diese Daten werden in die Arbeitsblätter "2 Antrag" und "3 Abrechnung" übernommen.
D32: 2 Antrag
E34: Mit diesem Arbeitsblatt wird der Antrag auf Förderung von Materialkäufen für die Jugendarbeit gemäß Richtlinie D gestellt. Antrag nicht ausdrucken, Datei digital per E-Mail übermitteln!
E35: Anträge für die Richtlinie D müssen bis 01.03. des laufenden Jahres beim KJR eingehen!
E36: In diesem Arbeitsblatt müssen alle Materialpositionen inkl. der Preise sowie der Verwendungszweck eingetragen werden.
E37: Bei einen Änderungsantrag ist das Datum des ursprünglichen Antrages einzutragen.
E38: Die Standards zum Kinderschutz und die Fördergrundsätze des KJR müssen durch Ankreuzen bestätigt werden.
E39: Für einen Antrag ist es erforderlich, dass im Arbeitsblatt "1 Antragsteller-DATEN" alle Daten eingetragen sind.
D41: 3.1 Abrechnung-DATEN
E43: Dieses Arbeitsblatt dient ausschließlich der Dateneingabe, es soll der Abrechnung nicht beigefügt und nicht ausgedruckt werden.
E44: In diesem Arbeitsblatt müssen die Materialpositionen inkl. der Preise sowie der Verwendungszweck nach dem Kauf der Materialien eingetragen werden, dies kann mithilfe
E45: der "Copy & Paste" Bereiche erfolgen (Erläuterung weiter unten). Die Daten, die bei der Beantragung eingetragen wurden, sind auf Aktualität zu überprüfen.
D47: 3.2 Abrechnung-DRUCK
E49: Dieses Arbeitsblatt dient ausschließlich dem Ausdruck des Abrechnungsformulars. Zur Abrechnung dieses Formular ausgedruckt in Papierform einreichen!
E50: Dateneingaben sind nicht möglich, die Zellen sind gesperrt und füllen sich automatisch mit den Daten aus den Arbeitsblättern "1 Antragsteller-DATEN" und "3.1 Abrechnung-DATEN".
D54: Eingabe von Daten
D56: Für die Eingabe von Daten sind folgende Arbeitsblätter vorgesehen:
D58: 1 Antragssteller-DATEN
D60: 2 Antrag
D62: 3.1 Abrechnung-DATEN
E64: Die Eingabe von Daten ist ausschließlich für weiße Eingabefelder vorgesehen und nur dort möglich, die Zellen sind entsprechend auszuwählen.
E66: Beispiele für Eingabefelder: | I66: Max | N66: Mustermann
I67: Vorname | N67: Name
I69: Materialien / Gegenstände [max. 70 Zeichen] | P69: Betrag
P70: 0
D72: Die Arbeitsblätter "2 Antrag" und "3.1 Abrechnung-Daten" sind weitgehend identisch, dies erleichtert das "Finden" von Datenfeldern und das Weiterverarbeiten der Daten.
D74: Dropdownlisten
...

Sheet 1 Antragsteller-DATEN
D3: STAMMDATEN - Antragsteller - Richtlinie D 2026
AB4: =ROHDATEN!B3 -> Dateiversion: 15.12.2025
D7: 1. Adressat und Fristen für Anträge und Abrechnungen der Richtlinie D
D9: Anträge und Abrechnungen für die Richtlinie D sind immer direkt an der Kreisjugendring Main Taunus e.V.
D10: zu richten.
D12: Adresse des Kreisjugendrings Main-Taunus e.V.
A14: 1 | D14: Bezeichnung | N14: Kreisjugendring Main-Taunus e.V.
A16: 2 | D16: Straße | N16: Am Stegskreuz 8
A18: 3 | D18: PLZ, Ort | N18: 65719 | Q18: Hofheim am Taunus
N19: PLZ | Q19: Ort
D20: Fristen Richtlinie D
A22: 4 | D22: Posteingang für Anträge | N22: 46082
A24: 6 | D24: Posteingang für Abrechnungen | N24: 46310
D26: Weitere Informationen
A28: 7 | D28: Telefon | N28: 06192 287010
A30: 8 | D30: eMail | N30: info@kjr-mtk.de
D34: 2. Antragsteller [Träger der Maßnahme]
A36: 9 | D36: Namen [Träger der Maßnahme]
A38: 10 | D38: Abteilung / Kirchort
A40: 11 | D40: Zusatz
A42: 12 | D42: Straße
A44: 13 | D44: PLZ, Ort
N45: PLZ | Q45: Ort
D49: 3. Kontaktperson
A51: 14 | D51: Vorname, Name
N52: Vorname | S52: Name
A54: 15 | D54: Telefon
A56: 16 | D56: eMail
D60: 4. Bankverbindung
A62: 17 | D62: Kontoinhaber
A64: 18 | D64: IBAN
A66: 19 | D66: Verwendungszweck / Haushaltsstelle

Sheet 2 Antrag
D3: Antrag auf Förderung von Materialien für die Jugendarbeit und den Ausbau von Jugendräumen - Richtline D 2026
AD4: =ROHDATEN!B3 -> Dateiversion: 15.12.2025
D7: Antrag
E9: [Anträge sind in digitaler Form bis zum 31.03. einzureichen, hierfür muss diese Excel-Datei mit allen Kostennachweisen per eMail an den Kreisjugendring Main-Taunus übermittelt werden. Zusätzlich zu diesem Arbeitsblatt bitte auch das Arbeitsblatt "1 Antragsteller-DATEN" ausfüllen!]
G11: Wir beantragen die Förderung von Materialien für die Jugendarbeit und den Ausbau von Jugendräumen nach Richtlinie D des Kreisjugendrings Main-Taunus.
J14: Dies ist Änderungsantrag zum Antrag vom:
G16: Wir bestätigen rechtsverbindlich
J18: dass die Fördergrundsätze des KJR zutreffen, insb. dass die durch den KJR MTK geförderten Materialien ausschließlich für die Jugendarbeit verwendet werden und nicht dem originären Vereinszweck dienen, wie z. B. Gesangsbücher (Kirchen), Noten (Musikvereine), Nachhilfeunterlagen, Sportgeräte für den Trainings- oder Wettkampfbetrieb, etc..
J21: dass der Kauf der beantragten Materialien im Antragsjahr erfolgen wird bzw. erfolgt ist und bis zum 15.10. beim Kreisjugendring abgerechnet wird. Alle Rechnungskopien, die zur Abrechnung eingereicht werden, müssen im Antragsjahr datiert sein.
J24: dass die Originalbelege 10 Jahre ordnungsgemäß aufbewahrt werden und Gegenstände, deren Anschaffungskosten bzw. Herstellungswert 300,00 Euro übersteigen, inventarisiert werden.
J27: dass bei uns nur Betreuer*innen eingesetzt werden, die einen Verhaltenskodex unterzeichnet haben und von denen ein erweitertes Führungszeugnis vorgelegt wurde, das keine relevanten Eintragungen aufweist (Pflicht nach § 72a SGB VIII)..
J30: dass wir ein Schutzkonzept zum Kindeswohl umgesetzt haben.
D33: Ort
D35: Datum
D37: Name/n in Druckbuchstabe, Funktion/en
D41: Materialien | N41: Zu Beginn der Bearbeitung die Daten im Arbeitsblatt "1 Antragsteller-DATEN" eintragen!
M43: C & P Bereich Materialliste - hier klicken für Start der Markierung
D44: Materialliste | K44: i
K46: Nr. | N46: Materialien / Gegenstände [max. 70 Zeichen] | U46: Betrag
D47: [jeden Materialposition einzel eintragen, bei mehr als 10 Positionen Materialien in Kategorien wie z.B. Spiele, Bastelmaterial etc. zusammenfassen und als separate Liste beifügen] | K47: 1. | U47: 0
K48: 2. | U48: 0
K49: 3. | U49: 0
K50: 4. | U50: 0
K51: 5. | U51: 0
K52: 6. | U52: 0
K53: 7. | U53: 0
K54: 8. | U54: 0
K55: 9. | U55: 0
K56: 10. | U56: 0
D58: Verwendungszweck der Materialien / Gegenstände | N58: Verwendungszweck der Materialien / Gegenstände [max. 220 Zeichen]
M61: C & P Bereich Materialliste - Ende der Markierung
D63: Gesamtkosten | U63: =SUM(U47:U56) -> 0

Sheet 3.1 Abrechnung-DATEN
D3: DATEN - Abrechnung von Materialkäufen für die Jugendarbeit und den Ausbau von Jugendräumen - Richtline D 2026
AD4: =ROHDATEN!B3 -> Dateiversion: 15.12.2025
D7: Abrechnung
E9: [Abrechnungen sind in Papierform einzureichen, hierfür ist das Abrechnungsformular inkl. Anlage "Finanzen" auszudrucken und gemeinsam mit den weiteren Unterlagen an die Abrechnungsstelle zu senden.]
G16: Wir bestätigen rechtsverbindlich
J18: dass die Fördergrundsätze des KJR zutreffen, insb. dass die durch den KJR MTK geförderten Materialien ausschließlich für die Jugendarbeit verwendet werden und nicht dem originären Vereinszweck dienen, wie z. B. Gesangsbücher (Kirchen), Noten (Musikvereine), Nachhilfeunterlagen, Sportgeräte für den Trainings- oder Wettkampfbetrieb, etc..
J21: dass für jede Materialposition dieser Abrechnung Kopien der Rechnungen in Papierform beigefügt sind und diese Rechnungen bezahlt wurden. Die Rechnungen müssen im Antragsjahr datiert sein.
J24: dass die Originalbelege 10 Jahre ordnungsgemäß aufbewahrt werden und Gegenstände, deren Anschaffungskosten bzw. Herstellungswert 300,00 Euro übersteigen, inventarisiert werden.
J27: dass bei uns nur Betreuer*innen eingesetzt werden, die einen Verhaltenskodex unterzeichnet haben und von denen ein erweitertes Führungszeugnis vorgelegt wurde, das keine relevanten Eintragungen aufweist (Pflicht nach § 72a SGB VIII)..
J30: dass wir ein Schutzkonzept zum Kindeswohl umgesetzt haben.
D33: Ort
D35: Datum
D37: Name/n in Druckbuchstabe, Funktion/en
D41: Materialien | N41: Zu Beginn der Bearbeitung die Daten im Arbeitsblatt "1 Antragsteller-DATEN" eintragen!
M43: C & P Bereich Materialliste - hier klicken für Start der Markierung
D44: Materialliste | K44: i
K46: Nr. | N46: Materialien / Gegenstände [max. 70 Zeichen] | U46: Betrag
D47: [jeden Materialposition einzel eintragen, bei mehr als 10 Positionen Materialien in Kategorien wie z.B. Spiele, Bastelmaterial etc. zusammenfassen und als separate Liste beifügen] | K47: 1. | U47: 0
K48: 2. | U48: 0
K49: 3. | U49: 0
K50: 4. | U50: 0
K51: 5. | U51: 0
K52: 6. | U52: 0
K53: 7. | U53: 0
K54: 8. | U54: 0
K55: 9. | U55: 0
K56: 10. | U56: 0
D58: Verwendungszweck der Materialien / Gegenstände | N58: Verwendungszweck der Materialien / Gegenstände [max. 220 Zeichen]
M61: C & P Bereich Materialliste - Ende der Markierung
D63: Gesamtkosten | U63: =SUM(U47:U56) -> 0

Sheet 3.2 Abrechnung-DRUCK
B2: =ROHDATEN!B3 -> Dateiversion: 15.12.2025 | X2: Träger der Maßnahme:
T3: Name | X3: =IF('1 Antragsteller-DATEN'!N36=0,"",'1 Antragsteller-DATEN'!N36)
T4: Abteilung/Kirchort | X4: =IF('1 Antragsteller-DATEN'!N38=0,"",'1 Antragsteller-DATEN'!N38)
T5: Zusatz | X5: =IF('1 Antragsteller-DATEN'!N40=0,"",'1 Antragsteller-DATEN'!N40)
T6: Straße | X6: =IF('1 Antragsteller-DATEN'!N42=0,"",'1 Antragsteller-DATEN'!N42)
T7: PLZ, Ort | X7: =IF('1 Antragsteller-DATEN'!N44=0,"",'1 Antragsteller-DATEN'!N44) | AA7: =IF('1 Antragsteller-DATEN'!Q44=0,"",'1 Antragsteller-DATEN'!Q44)
T8: Kontaktperson | X8: =IF('1 Antragsteller-DATEN'!N51=0,"",'1 Antragsteller-DATEN'!N51) | AB8: =IF('1 Antragsteller-DATEN'!S51=0,"",'1 Antragsteller-DATEN'!S51)
T9: Telefon | X9: =IF('1 Antragsteller-DATEN'!N54=0,"",'1 Antragsteller-DATEN'!N54)
T10: eMail | X10: =IF('1 Antragsteller-DATEN'!N56=0,"",'1 Antragsteller-DATEN'!N56)
X11: Bankverbindung
C12: Kreisjugendring Main-Taunus e.V. | T12: Kontoinhaber | X12: =IF('1 Antragsteller-DATEN'!N62=0,"",'1 Antragsteller-DATEN'!N62)
C13: Am Stegskreuz 8 | T13: IBAN | X13: =IF('1 Antragsteller-DATEN'!N64=0,"",'1 Antragsteller-DATEN'!N64)
C14: 65719 Hofheim am Taunus | T14: Haushaltsstelle/VWZ | X14: =IF('1 Antragsteller-DATEN'!N66=0,"",'1 Antragsteller-DATEN'!N66)
C17: Abrechnung von Materialkäufen für die Jugendarbeit und
C18: den Ausbau von Jugendräumen (Richtlinie D)
C19: [Die Abrechnung muss bis 15.10.2026 beim Kreisjugendring eingereicht werden.]
C21: Wir rechnen den Kauf folgender Materialien / Gegenstände gemäß Richtlinie D ab:
C23: Materialien / Gegenstände | AD23: Preis
C24: 1 | F24: =IF('3.1 Abrechnung-DATEN'!N47=0,"",'3.1 Abrechnung-DATEN'!N47) | AD24: =IF('3.1 Abrechnung-DATEN'!U47=0,"",'3.1 Abrechnung-DATEN'!U47)
C25: 2 | F25: =IF('3.1 Abrechnung-DATEN'!N48=0,"",'3.1 Abrechnung-DATEN'!N48) | AD25: =IF('3.1 Abrechnung-DATEN'!U48=0,"",'3.1 Abrechnung-DATEN'!U48)
C26: 3 | F26: =IF('3.1 Abrechnung-DATEN'!N49=0,"",'3.1 Abrechnung-DATEN'!N49) | AD26: =IF('3.1 Abrechnung-DATEN'!U49=0,"",'3.1 Abrechnung-DATEN'!U49)
C27: 4 | F27: =IF('3.1 Abrechnung-DATEN'!N50=0,"",'3.1 Abrechnung-DATEN'!N50) | AD27: =IF('3.1 Abrechnung-DATEN'!U50=0,"",'3.1 Abrechnung-DATEN'!U50)
C28: 5 | F28: =IF('3.1 Abrechnung-DATEN'!N51=0,"",'3.1 Abrechnung-DATEN'!N51) | AD28: =IF('3.1 Abrechnung-DATEN'!U51=0,"",'3.1 Abrechnung-DATEN'!U51)
C29: 6 | F29: =IF('3.1 Abrechnung-DATEN'!N52=0,"",'3.1 Abrechnung-DATEN'!N52) | AD29: =IF('3.1 Abrechnung-DATEN'!U52=0,"",'3.1 Abrechnung-DATEN'!U52)
C30: 7 | F30: =IF('3.1 Abrechnung-DATEN'!N53=0,"",'3.1 Abrechnung-DATEN'!N53) | AD30: =IF('3.1 Abrechnung-DATEN'!U53=0,"",'3.1 Abrechnung-DATEN'!U53)
C31: 8 | F31: =IF('3.1 Abrechnung-DATEN'!N54=0,"",'3.1 Abrechnung-DATEN'!N54) | AD31: =IF('3.1 Abrechnung-DATEN'!U54=0,"",'3.1 Abrechnung-DATEN'!U54)
C32: 9 | F32: =IF('3.1 Abrechnung-DATEN'!N55=0,"",'3.1 Abrechnung-DATEN'!N55) | AD32: =IF('3.1 Abrechnung-DATEN'!U55=0,"",'3.1 Abrechnung-DATEN'!U55)
C33: 10 | F33: =IF('3.1 Abrechnung-DATEN'!N56=0,"",'3.1 Abrechnung-DATEN'!N56) | AD33: =IF('3.1 Abrechnung-DATEN'!U56=0,"",'3.1 Abrechnung-DATEN'!U56)
F35: Gesamtkosten | AD35: =IF('3.1 Abrechnung-DATEN'!U63=0,"",'3.1 Abrechnung-DATEN'!U63)
C37: Verwendungszweck der Materialien / Gegenstände
C38: =IF('3.1 Abrechnung-DATEN'!N59=0,"",'3.1 Abrechnung-DATEN'!N59)
C40: Wir bestätigen mit rechtsverbindlicher Unterschrift (Punkte separat ankreuzen!)
F42: dass die Fördergrundsätze des KJR zutreffen, insb. dass die durch den KJR MTK geförderten Materialien ausschließlich für die Jugendarbeit verwendet werden und nicht dem originären Vereinszweck dienen, wie z. B. Gesangsbücher (Kirchen), Noten (Musikvereine), Nachhilfeunterlagen, Sportgeräte für den Trainings- oder Wettkampfbetrieb, etc..
D43: =IF('3.1 Abrechnung-DATEN'!H18=0,"",'3.1 Abrechnung-DATEN'!H18)
F45: dass für jede Materialposition dieser Abrechnung Kopien der Rechnungen in Papierform beigefügt sind und diese Rechnungen bezahlt wurden. Die Rechnungen müssen im Antragsjahr datiert sein.
D46: =IF('3.1 Abrechnung-DATEN'!H21=0,"",'3.1 Abrechnung-DATEN'!H21)
F48: dass die Originalbelege 10 Jahre ordnungsgemäß aufbewahrt werden und Gegenstände, deren Anschaffungskosten bzw. Herstellungswert 300,00 Euro übersteigen, inventarisiert werden.
D49: =IF('3.1 Abrechnung-DATEN'!H24=0,"",'3.1 Abrechnung-DATEN'!H24)
F51: dass bei uns nur Betreuer*innen eingesetzt werden, die einen Verhaltenskodex unterzeichnet haben und von denen ein erweitertes Führungszeugnis vorgelegt wurde, das keine relevanten Eintragungen aufweist (Pflicht nach § 72a SGB VIII)..
D52: =IF('3.1 Abrechnung-DATEN'!H27=0,"",'3.1 Abrechnung-DATEN'!H27)
...

Sheet ROHDATEN
A2: Jahr | B2: 2026
A3: Dateiversion | B3: Dateiversion: 15.12.2025
