Workbook
Name AArtVeranstaltung: #REF!
Name ArtMaßnahme: #REF!
Name ArtMaßnahme: #REF!
Name ArtMaßnahme: #REF!
Name ArtMaßnahme: #REF!
Name ArtMaßnahme: #REF!
Name ArtMaßnahme: #REF!
Name ArtVeranstaltung: #REF!
Name ArtVeranstaltung: #REF!
Name ArtVeranstaltung: #REF!
Name ArtVeranstaltung: #REF!
Name ArtVeranstaltung: #REF!
Name ArtVeranstaltung: #REF!
Name fdhslgfslghj: #REF!
Name fdhslgfslghj: #REF!
Name fdhslgfslghj: #REF!
Name fdhslgfslghj: #REF!
Name fdhslgfslghj: #REF!
Name kkkk: #REF!
Name kkkk: #REF!
Name kkkk: #REF!
Name kkkk: #REF!
Name kkkk: #REF!
Name kkkk: #REF!
Name ldflg: #REF!
Name ldflg: #REF!
Name ldflg: #REF!
Name ldflg: #REF!
Name ldflg: #REF!
Name lfhalgkh: #REF!
Name lfhalgkh: #REF!
Name lfhalgkh: #REF!
Name lfhalgkh: #REF!
Name lfhalgkh: #REF!
Name Print_Area: '0 Anleitung'!$D$33:$S$64
Name Print_Area: '1 Antragsteller-DATEN'!$D$35:$S$74
Name Print_Area: '2 Antrag'!$D$39:$X$189
Name Print_Area: '3.1 Abrechnung-DATEN'!$D$39:$X$182
Name Print_Titles: '0 Anleitung'!$D:$G
Name Print_Titles: '1 Antragsteller-DATEN'!$D:$G
Name Print_Titles: '2 Antrag'!$D:$L
Name Print_Titles: '3.1 Abrechnung-DATEN'!$D:$L

Sheet 0 Anleitung
D3: ANLEITUNG - Datei Richtlinie C
W4: =ROHDATEN!B3 -> Dateiversion: 17.12.2025
D7: Arbeiten mit den Excel-Arbeitsblättern (Registern)
D9: Excel ist eine Tabellenkalkulationsprogramm das umfangreiche Berechnungen ermöglicht, über Datenbankfunktionen verfügt und Texte miteinander verketten kann.
D10: Der Arbeitsbereich einer Excel-Datei gliedert sich in Arbeitsblätter (Register), die Arbeitsblätter bestehen aus Zellen in die Daten oder auch Texte eingegeben werden können.
D11: Excel kann mit den Zellinhalten Berechnungen, Verkettungen oder Zuordnungen durchführen.
D13: Die Arbeitsblätter (Register) können mit dem Mauszeiger (Cursor) ausgewählt werden, die Register werden am unteren Rand des Excel-Arbeitsfensters angezeigt.
D14: Mit dem Mauszeiger auf das gewünschte Arbeitsblatt zeigen und mit Klick auf die linke Maustaste auswählen. Zwischen den Arbeitsblättern kann beliebig gewechselt werden.
D21: Die vorliegende Excel-Datei gliedert sich in folgende Arbeitsblätter, sie führen durch den Prozess der Beantragung und Abrechnung von Maßnahmen gemäß Richtlinie B (RL B).
E23: 0 Anleitung
E25: Hier sind Hinweise zur Nutzung der Excel-Datei zu finden.
E27: 1 Antragssteller-DATEN
E29: Dieses Arbeitsblatt dient ausschließlich der Dateneingabe, es soll nicht ausgedruckt werden.
E30: Der Antragsteller muss seine Adresse, eine Kontaktperson sowie die Bankverbindung eintragen.
E32: 2 Antrag
E34: Mit diesem Arbeitsblatt wird der Antrag auf Bezuschussung der Bildungsmaßnahme gemäß Richtlinie B gestellt. Antrag nicht ausdrucken, Datei digital per E-Mail übermitteln!
E35: In diesem Arbeitsblatt müssen Daten der Maßnahme wie Art der Maßnahme, Datum, Anzahl der Teilnehmen*innen und Betreuer*innen eingetragen werden.
E36: Die Standards zum Kinderschutz und die Fördergrundsätze des KJR müssen durch Ankreuzen bestätigt werden.
E37: Für einen Antrag ist es erforderlich, dass im Arbeitsblatt "1 Antragsteller-DATEN" alle Daten eingetragen sind.
E39: 3.1 Abrechnung-DATEN
E41: Dieses Arbeitsblatt dient ausschließlich der Dateneingabe, es soll der Abrechnung nicht beigefügt und nicht ausgedruckt werden.
... E49: Dateneingaben sind nicht möglich, die Zellen sind gesperrt und füllen sich automatisch mit den Daten aus den Arbeitsblättern "1 Antragsteller-DATEN" und "3.1 Abrechnung-DATEN".
D53: Eingabe von Daten
D55: Für die Eingabe von Daten sind folgende Arbeitsblätter vorgesehen:
E57: 1 Antragssteller-DATEN
E59: 2 Antrag
E61: 3.1 Abrechnung-DATEN
D63: Die Eingabe von Daten ist ausschließlich für weiße Eingabefelder vorgesehen und nur dort möglich, die Zellen sind entsprechend auszuwählen.
D65: Beispiele für Eingabefelder: | I65: Max | N65: Mustermann
I66: Vorname | N66: Name
I69: 00000 | L69: Musterstadt
I70: PLZ | L70: Ort
D72: Die Arbeitsblätter "2 Antrag" und "3.1 Abrechnung-Daten" sind weitgehend identisch, dies erleichtert das "Finden" von Datenfeldern und das Weiterverarbeiten der Daten.
D73: Dadurch, dass beide Arbeitsblätter weitgehend indentisch sind, gibt es in den Arbeitsblättern Eingabefelder, die für den jeweiligen Prozess der Beantragung bzw. Abrechnung nicht notwendig sind,
D74: sie können übersprungen werden. Daten, die für den jeweiligen Prozess benötigt werden, sind wie folgt markiert: die Bezeichnung ist "fett" geschrieben und mit einem * versehen, die Zeile
D75: dunkelgrau hinterlegt. Die Bezeichnung von Daten, die für den jeweiligen Prozess nicht benötigt werden, ist in heller und nicht fetter Schrift geschrieben.
D77: Beispiel für die Markierung von Eingabefeldern
D79: Eingabemaske "Veranstaltung" des Arbeitsblattes "2 Antrag" (Prozess der Beantragung)
D82: Status der Maßnahme [Dropdown] | F82: i
D84: Art der Maßnahme * [Dropdown] | F84: i | I84: a. Bildungsmaßnahme mit Übernachtung
...

Sheet 1 Antragsteller-DATEN
D3: STAMMDATEN - Antragsteller [Träger der Maßnahme] - Richtlinie C 2026
W4: =ROHDATEN!B3 -> Dateiversion: 17.12.2025
D7: 1. Adressat und Fristen für Anträge und Abrechnungen der Richtlinie C
D9: Anträge und Abrechnungen für die Richtlinie C sind immer direkt an der Kreisjugendring Main Taunus e.V.
D10: zu richten.
D12: Adresse des Kreisjugendrings Main-Taunus e.V.
A14: 1 | D14: Bezeichnung | I14: Kreisjugendring Main-Taunus e.V.
A16: 2 | D16: Straße | I16: Am Stegskreuz 8
A18: 3 | D18: PLZ, Ort | I18: 65719 | L18: Hofheim am Taunus
I19: PLZ | L19: Ort
D20: Fristen Richtlinie C
A22: 4 | D22: Posteingang für Anträge | I22: bis 01.03.2026
A24: 5 | D24: Posteingang für Abrechnungen der Mitgliedsverbände des Kreisjugendrings und deren Untergliederungen | I24: Maßnahmen, die bis zum 15.09.2026 beendet sind, müssen bis zum 15.10.2026 abgerechnet werden. Maßnahmen, die nach dem 15.09.2026 beendet werden, müssen bis zum 15.02.2027 abgerechnet werden. Einzelne Maßnahmen können jederzeit vor den Fristen beim Kreisjugendring abgerechnet werden.
A26: 6 | D26: Posteingang für Abrechnungen von sonstigen freien Trägern der Jugendarbeit | I26: Innerhalb von 6 Wochen nach Beendigung der Maßnahme.
D28: Weitere Informationen
A30: 7 | D30: Telefon | I30: 06192 287010
A32: 8 | D32: eMail | I32: info@kjr-mtk.de
D36: 2. Antragsteller [Träger der Maßnahme]
A38: 9 | D38: Namen [Träger der Maßnahme]
A40: 10 | D40: Abteilung / Kirchort
A42: 11 | D42: Zusatz
A44: 12 | D44: Straße
A46: 13 | D46: PLZ, Ort
I47: PLZ | L47: Ort
D51: 3. Kontaktperson
A53: 14 | D53: Vorname, Name
I54: Vorname | N54: Name
A56: 15 | D56: Telefon
A58: 16 | D58: eMail
D62: 4. Bankverbindung
A64: 17 | D64: Kontoinhaber
A66: 18 | D66: IBAN
A68: 19 | D68: Verwendungszweck / Haushaltsstelle

Sheet 2 Antrag
C3: Antrag auf Förderung einer Bildungsmaßnahme für Mitarbeiter*innen - Richtlinie C 2026
AD4: =ROHDATEN!B3 -> Dateiversion: 17.12.2025
C6: *Bei der Beantragung ist die Dateneingabe in den dunkelgrau markierten Zeilen erforderlich (sofern zutreffend)
D9: Antrag
E11: [Anträge sind in digitaler Form einzureichen, hierfür muss diese Excel-Datei per eMail an den Kreisjugendring übermittelt werden. Zusätzlich zu diesem Arbeitsblatt bitte auch das Arbeitsblatt "1 Antragsteller-DATEN" ausfüllen!]
G13: Wir beantragen für diese Bildungsmaßnahme einen Förderung nach Richtlinie C des Kreisjugendring Main-Taunus.
G15: Wir bestätigen rechtsverbindlich
J17: dass die Fördergrundsätze des KJR zutreffen, insb. dass es sich um eine Veranstaltung handelt, die nicht überwiegend religiösen, sportlichen oder parteipolitischen Charakter hat und nicht von einer Schule veranstaltet wird.
J20: dass sämtlich erhaltene Zuschüsse zur Senkung der Teilnahmebeiträge dienen.
J23: dass wir ein Schutzkonzept zum Kindeswohl umgesetzt haben.
J26: dass bei uns nur Betreuer*innen eingesetzt werden, die einen Verhaltenskodex unterzeichnet haben und von denen ein erweitertes Führungszeugnis vorgelegt wurde, das keine relevanten Eintragungen aufweist (Pflicht nach § 72a SGB VIII).
J29: dass die Maßnahme fristgerecht gemäß des gültigen Regelwerkes des KJR MTK abgerechnet wird.
A32: 1 | D32: Ort *
A34: 2 | D34: Datum *
A36: 3 | D36: Name/n in Druckbuchstabe, Funktion/en *
D40: Veranstaltung | N40: Zu Beginn der Bearbeitung die Daten im Arbeitsblatt "1 Antragsteller-DATEN" eintragen! | AA40: Automatische Berechnungen von Daten
A42: 4 | D42: Antrag Nr. | K42: i | N42: 1
M44: C & P Bereich Richtlinie C - hier klicken für Start der Markierung
A46: 5 | D46: Antragsteller [Träger der Maßnahme] *
N47: Träger der Maßnahme
A49: 6 | D49: Titel der Maßnahme *
N50: Titel der Maßnahme
A52: 7 | D52: Status der Maßnahme [Dropdown] | K52: i
A54: 8 | D54: Art der Maßnahme * [Dropdown] | K54: i
A56: 9 | D56: Datum / Veranstaltungstage * | K56: i | N56: 46023 | P56: - | AA56: =IF(N56="",0,IF(Q56="",1,Q56-N56+1)) -> 1 | AD56: Tag[e]
N57: am / von | Q57: bis | U57: manuelle Eingabe Tage
A59: 10 | D59: Für hybride Maßnahmen Aufschlüsselung der Tage | K59: i | AA59: =IF(N54="d. Hybride Bildungsmaßnahme",IF(AND((N59+Q59+U59)<>AA56,(N59+Q59+U59)<>U56)," Die Anzahl der Tage stimmt nicht mit den Datumsangaben oder der Eingabe der Tage überein!",""),"")
N60: mit Übernachtung | Q60: ohne Übernachtung | U60: digital
A62: 11 | D62: Name der Bildungsstätte * | K62: i
A64: 12 | D64: Straße
A66: 13 | D66: PLZ Ort *
N67: PLZ | Q67: Ort
A69: 14 | D69: Land *
D73: Personen | K73: i | AA73: Automatische Berechnungen von Daten bzw. Überprüfungen der Eingaben
A75: 15 | D75: Förderfähige Mitarbeiter*innen * | K75: i | Q75: Förderfähige Mitarbeiter*innen
A77: 16 | D77: Förderfähige Referent*innen * | K77: i | Q77: Förderfähige Referent*innen | AA77: =IF(N77="","",IF(AND(N75>14,N77<=ROUNDUP(N75/7,0)),"",IF(AND(AND(N75<15,N75>=3),N77<3),""," Die Anzahl der maximal förderfähigen Referent*innen ist überschritten!")))
A79: 19 | D79: Personen mit Honorar | K79: i | Q79: Personen mit Honorar
A81: 20 | D81: Sonstige Personen ohne Förderung | K81: i | Q81: Sonstige Personen ohne Förderung | AA81: =N75+N77+N79+N81 -> 0 | AD81: GESAMTZAHL PERSONEN (Zahl identisch mit Teilnahmeliste)
D85: Einnahmen [ohne Zuschüsse KJR MTK] | K85: i | AA85: Automatische Berechnungen von Daten
A87: 21 | D87: Reguläre Teilnahmebeiträge * | K87: i | N87: 0 | Q87: 0 | AA87: =N87*Q87 -> 0 | AD87: Gesamtbetrag reguläre Teilnahmebeiträge
...

Sheet 3.1 Abrechnung-DATEN
C3: DATEN - Abrechnung einer Bildungsmaßnahme für Mitarbeiter*innen - Richtlinie C 2026
AD4: =ROHDATEN!B3 -> Dateiversion: 17.12.2025
C6: *Bei der Abrechnung ist die Dateneingabe in den dunkelgrau markierten Zeilen erforderlich (sofern zutreffend)
D9: Abrechnung
E11: [Abrechnungen sind in Papierform einzureichen, hierfür ist das Abrechnungsformular inkl. Anlage "Finanzen" auszudrucken und gemeinsam mit den weiteren Unterlagen in Papierform an den Kreisjugendring zu senden.]
G15: Wir bestätigen rechtsverbindlich
J17: dass die Fördergrundsätze des KJR zutreffen, insb. dass es sich um eine Veranstaltung handelte, die nicht überwiegend religiösen, sportlichen oder parteipolitischen Charakter hatte und nicht von einer Schule veranstaltet wurde.
J20: dass sämtlich erhaltene Zuschüsse zur Senkung der Teilnahmebeiträge dienen.
J23: dass wir ein Schutzkonzept zum Kindeswohl umgesetzt haben.
J26: dass bei uns nur Betreuer*innen eingesetzt werden, die einen Verhaltenskodex unterzeichnet haben und von denen ein erweitertes Führungszeugnis vorgelegt wurde, das keine relevanten Eintragungen aufweist (Pflicht nach § 72a SGB VIII).
J29: dass die Originalbelege zu Prüfzwecken bei uns eingesehen werden können und 10 Jahre ordnungsgemäß aufbewahrt werden.
A32: 1 | D32: Ort *
A34: 2 | D34: Datum *
A36: 3 | D36: Name/n in Druckbuchstabe, Funktion/en *
D40: Veranstaltung | N40: Zu Beginn der Bearbeitung die Daten im Arbeitsblatt "1 Antragsteller-DATEN" eintragen! | AA40: Automatische Berechnungen von Daten
A42: 4 | D42: Antrag Nr. | K42: i | N42: 1
M44: C & P Bereich Richtlinie C - hier klicken für Start der Markierung
A46: 5 | D46: Antragsteller [Träger der Maßnahme] *
N47: Träger der Maßnahme
A49: 6 | D49: Titel der Maßnahme *
N50: Titel der Maßnahme
A52: 7 | D52: Status der Maßnahme * [Dropdown] | K52: i
A54: 8 | D54: Art der Maßnahme * [Dropdown] | K54: i
A56: 9 | D56: Datum / Veranstaltungstage * | K56: i | N56: 46023 | P56: - | AA56: =IF(N56="",0,IF(Q56="",1,Q56-N56+1)) -> 1 | AD56: Tag[e]
N57: am / von | Q57: bis | U57: manuelle Eingabe Tage
A59: 10 | D59: Für hybride Maßnahmen Aufschlüsselung der Tage | K59: i | AA59: =IF(N54="d. Hybride Bildungsmaßnahme",IF(AND((N59+Q59+U59)<>AA56,(N59+Q59+U59)<>U56)," Die Anzahl der Tage stimmt nicht mit den Datumsangaben oder der Eingabe der Tage überein!",""),"")
N60: mit Übernachtung | Q60: ohne Übernachtung | U60: digital
A62: 11 | D62: Name der Bildungsstätte * | K62: i
A64: 12 | D64: Straße
A66: 13 | D66: PLZ Ort *
N67: PLZ | Q67: Ort
A69: 14 | D69: Land *
D73: Personen | K73: i | AA73: Automatische Berechnungen von Daten bzw. Überprüfungen der Eingaben
A75: 15 | D75: Förderfähige Mitarbeiter*innen * | K75: i | Q75: Förderfähige Mitarbeiter*innen
A77: 16 | D77: Förderfähige Referent*innen * | K77: i | Q77: Förderfähige Referent*innen | AA77: =IF(N77="","",IF(AND(N75>14,N77<=ROUNDUP(N75/7,0)),"",IF(AND(AND(N75<15,N75>=3),N77<3),""," Die Anzahl der maximal förderfähigen Referent*innen ist überschritten!")))
A79: 19 | D79: Personen mit Honorar * | K79: i | Q79: Personen mit Honorar
A81: 20 | D81: Sonstige Personen ohne Förderung * | K81: i | Q81: Sonstige Personen ohne Förderung | AA81: =N75+N77+N79+N81 -> 0 | AD81: GESAMTZAHL PERSONEN (Zahl identisch mit Teilnahmeliste)
D85: Einnahmen [ohne Zuschüsse KJR MTK] | K85: i | AA85: Automatische Berechnungen von Daten
A87: 21 | D87: Reguläre Teilnahmebeiträge * | K87: i | N87: 0 | Q87: 0 | AA87: =N87*Q87 -> 0 | AD87: Gesamtbetrag reguläre Teilnahmebeiträge
N88: Beitrag | Q88: Anzahl
...

Sheet 3.2 Abrechnung-DRUCK
B2: =ROHDATEN!B3 -> Dateiversion: 17.12.2025 | X2: Träger der Maßnahme:
T3: Name | X3: =IF('1 Antragsteller-DATEN'!I38=0,"",'1 Antragsteller-DATEN'!I38)
T4: Abteilung/Kirchort | X4: =IF('1 Antragsteller-DATEN'!I40=0,"",'1 Antragsteller-DATEN'!I40)
T5: Zusatz | X5: =IF('1 Antragsteller-DATEN'!I42=0,"",'1 Antragsteller-DATEN'!I42)
T6: Straße | X6: =IF('1 Antragsteller-DATEN'!I44=0,"",'1 Antragsteller-DATEN'!I44)
T7: PLZ, Ort | X7: =IF('1 Antragsteller-DATEN'!I46=0,"",'1 Antragsteller-DATEN'!I46) | AA7: =IF('1 Antragsteller-DATEN'!L46=0,"",'1 Antragsteller-DATEN'!L46)
T8: Kontaktperson | X8: =IF('1 Antragsteller-DATEN'!I53=0,"",'1 Antragsteller-DATEN'!I53) | AB8: =IF('1 Antragsteller-DATEN'!N53=0,"",'1 Antragsteller-DATEN'!N53)
T9: Telefon | X9: =IF('1 Antragsteller-DATEN'!I56=0,"",'1 Antragsteller-DATEN'!I56)
T10: eMail | X10: =IF('1 Antragsteller-DATEN'!I58=0,"",'1 Antragsteller-DATEN'!I58)
X11: Bankverbindung
C12: Kreisjugendring Main-Taunus e.V. | T12: Kontoinhaber | X12: =IF('1 Antragsteller-DATEN'!I64=0,"",'1 Antragsteller-DATEN'!I64)
C13: Am Stegskreuz 8 | T13: IBAN | X13: =IF('1 Antragsteller-DATEN'!I66=0,"",'1 Antragsteller-DATEN'!I66)
C14: 65719 Hofheim | T14: Haushaltsstelle/VWZ | X14: =IF('1 Antragsteller-DATEN'!I68=0,"",'1 Antragsteller-DATEN'!I68)
C17: Abrechnung einer Bildungsmaßnahme für Mitarbeiter*innen (Richtlinie C)
C19: =IF('3.1 Abrechnung-DATEN'!N49=0,"",'3.1 Abrechnung-DATEN'!N49) | V19: ='3.1 Abrechnung-DATEN'!N56 -> 46023 | X19: - | Y19: =IF('3.1 Abrechnung-DATEN'!Q56=0,"",'3.1 Abrechnung-DATEN'!Q56) | AC19: =IF(OR('3.1 Abrechnung-DATEN'!U56=0,'3.1 Abrechnung-DATEN'!U56=""),'3.1 Abrechnung-DATEN'!AA56,'3.1 Abrechnung-DATEN'!U56) -> 1 | AD19: Tag[e]
C20: Titel der Veranstaltung | V20: am / von | Y20: bis | AC20: inkl. An- und Abreisetag
C22: =IF('3.1 Abrechnung-DATEN'!N62=0,"",'3.1 Abrechnung-DATEN'!N62) | M22: =IF('3.1 Abrechnung-DATEN'!N64=0,"",'3.1 Abrechnung-DATEN'!N64) | V22: =IF('3.1 Abrechnung-DATEN'!N66=0,"",'3.1 Abrechnung-DATEN'!N66) | W22: =IF('3.1 Abrechnung-DATEN'!Q66=0,"",'3.1 Abrechnung-DATEN'!Q66) | AB22: =IF('3.1 Abrechnung-DATEN'!N69=0,"",'3.1 Abrechnung-DATEN'!N69)
C23: Ort, Anschrift des Hauses, Zeltplatzes oder Ziel der Unternehmung
C25: Art der Maßnahme
F27: =IF('3.1 Abrechnung-DATEN'!N54=0,"",'3.1 Abrechnung-DATEN'!N54)
F29: =IF('3.1 Abrechnung-DATEN'!N54="d. Hybride Bildungsmaßnahme",'3.1 Abrechnung-DATEN'!N59,"") | G29: =IF('3.1 Abrechnung-DATEN'!N54="d. Hybride Bildungsmaßnahme"," Tag[e] mit Übernachtung","") | N29: =IF('3.1 Abrechnung-DATEN'!N54="d. Hybride Bildungsmaßnahme",'3.1 Abrechnung-DATEN'!Q59,"") | P29: =IF('3.1 Abrechnung-DATEN'!N54="d. Hybride Bildungsmaßnahme"," Tag[e] ohne Übernachtung","") | X29: =IF('3.1 Abrechnung-DATEN'!N54="d. Hybride Bildungsmaßnahme",'3.1 Abrechnung-DATEN'!U59,"") | Z29: =IF('3.1 Abrechnung-DATEN'!N54="d. Hybride Bildungsmaßnahme"," Tag[e] digital","")
C31: Teilnehmende Personen
H33: ='3.1 Abrechnung-DATEN'!N75 -> 0 | K33: Förderfähige Mitarbeiter*innen [Tätigkeit in der Jugendarbeit im MTK] | T33: ='3.1 Abrechnung-DATEN'!N77 -> 0 | V33: Förderfähige Refernt*innen [gemäß Schlüssel der Richtlinie]
H36: ='3.1 Abrechnung-DATEN'!N81 -> 0 | K36: sonstige Personen ohne Förderung | T36: ='3.1 Abrechnung-DATEN'!N79 -> 0 | V36: Personen mit Honorar [Honorarverträge wurden vor der Maßnahme abgeschlossen]
H39: ='3.1 Abrechnung-DATEN'!AA81 -> 0 | K39: Personen insgesamt [Zahl identisch mit Teilnahmeliste und Übernachtungsrechnungen]
C42: Finanzen (Details siehe Anlage Finanzen)
F44: Gesamteinnahmen | AC44: ='3.1 Abrechnung-DATEN'!AA124 -> 0
F45: Gesamtausgaben | AC45: ='3.1 Abrechnung-DATEN'!AA140 -> 0
F46: vorläufiges Ergebnis (ohne Zuschüsse des KJR MTK) | AC46: ='3.1 Abrechnung-DATEN'!AA124-'3.1 Abrechnung-DATEN'!AA140 -> 0
C48: Wir bestätigen mit rechtsverbindlicher Unterschrift (Punkte separat ankreuzen!)
F50: dass die Fördergrundsätze des KJR zutreffen, insb. dass es sich um eine Veranstaltung handelte, die nicht überwiegend religiösen, sportlichen oder parteipolitischen Charakter hatte und nicht von einer Schule veranstaltet wurde.
D51: =IF('3.1 Abrechnung-DATEN'!H17=0,"",'3.1 Abrechnung-DATEN'!H17)
F53: dass sämtliche erhaltene Zuschüsse zur Senkung der Teilnahmebeiträge dienen.
D54: =IF('3.1 Abrechnung-DATEN'!H20=0,"",'3.1 Abrechnung-DATEN'!H20)
F56: dass wir ein Schutzkonzept zum Kindeswohl umgesetzt haben.
D57: =IF('3.1 Abrechnung-DATEN'!H23=0,"",'3.1 Abrechnung-DATEN'!H23)
F59: dass bei uns nur Betreuer*innen eingesetzt werden, die einen Verhaltenskodex unterzeichnet haben und von denen ein erweitertes Führungszeugnis vorgelegt wurde, das keine relevanten Eintragungen aufweist (Pflicht nach § 72a SGB VIII).
D60: =IF('3.1 Abrechnung-DATEN'!H26=0,"",'3.1 Abrechnung-DATEN'!H26)
F62: dass die Originalbelege zu Prüfzwecken bei uns eingesehen werden können und 10 Jahre ordnungsgemäß aufbewahrt werden.
D63: =IF('3.1 Abrechnung-DATEN'!H29=0,"",'3.1 Abrechnung-DATEN'!H29)
...

Sheet ROHDATEN
A2: Jahr | B2: 2025
A3: Dateiversion | B3: Dateiversion: 17.12.2025
