Workbook
Name AArtVeranstaltung: #REF!
Name ArtMaßnahme: #REF!
Name ArtMaßnahme: #REF!
Name ArtMaßnahme: #REF!
Name ArtMaßnahme: #REF!
Name ArtMaßnahme: #REF!
Name ArtMaßnahme: #REF!
Name ArtVeranstaltung: #REF!
Name ArtVeranstaltung: #REF!
Name ArtVeranstaltung: #REF!
Name ArtVeranstaltung: #REF!
Name ArtVeranstaltung: #REF!
Name ArtVeranstaltung: #REF!
Name fdhslgfslghj: #REF!
Name fdhslgfslghj: #REF!
Name fdhslgfslghj: #REF!
Name fdhslgfslghj: #REF!
Name fdhslgfslghj: #REF!
Name kkkk: #REF!
Name kkkk: #REF!
Name kkkk: #REF!
Name kkkk: #REF!
Name kkkk: #REF!
Name kkkk: #REF!
Name ldflg: #REF!
Name ldflg: #REF!
Name ldflg: #REF!
Name ldflg: #REF!
Name ldflg: #REF!
Name lfhalgkh: #REF!
Name lfhalgkh: #REF!
Name lfhalgkh: #REF!
Name lfhalgkh: #REF!
Name lfhalgkh: #REF!
Name Print_Area: '0 Anleitung'!$D$33:$S$64
Name Print_Area: '1 Antragsteller-DATEN'!$D$35:$S$74
Name Print_Area: '2 Antrag'!$D$39:$X$189
Name Print_Area: '3.1 Abrechnung-DATEN'!$D$39:$X$182
Name Print_Titles: '0 Anleitung'!$D:$G
Name Print_Titles: '1 Antragsteller-DATEN'!$D:$G
Name Print_Titles: '2 Antrag'!$D:$L
Name Print_Titles: '3.1 Abrechnung-DATEN'!$D:$L

Sheet 0 Anleitung
D3: ANLEITUNG - Datei Richtlinie C
W4: =ROHDATEN!B3 -> Dateiversion: 17.12.2025
D7: Arbeiten mit den Excel-Arbeitsblättern (Registern)
D9: Excel ist eine Tabellenkalkulationsprogramm das umfangreiche Berechnungen ermöglicht, über Datenbankfunktionen verfügt und Texte miteinander verketten kann.
D10: Der Arbeitsbereich einer Excel-Datei gliedert sich in Arbeitsblätter (Register), die Arbeitsblätter bestehen aus Zellen in die Daten oder auch Texte eingegeben werden können.
D11: Excel kann mit den Zellinhalten Berechnungen, Verkettungen oder Zuordnungen durchführen.
D13: Die Arbeitsblätter (Register) können mit dem Mauszeiger (Cursor) ausgewählt werden, die Register werden am unteren Rand des Excel-Arbeitsfensters angezeigt.
D14: Mit dem Mauszeiger auf das gewünschte Arbeitsblatt zeigen und mit Klick auf die linke Maustaste auswählen. Zwischen den Arbeitsblättern kann beliebig gewechselt werden.
D21: Die vorliegende Excel-Datei gliedert sich in folgende Arbeitsblätter, sie führen durch den Prozess der Beantragung und Abrechnung von Maßnahmen gemäß Richtlinie B (RL B).
E23: 0 Anleitung
E25: Hier sind Hinweise zur Nutzung der Excel-Datei zu finden.
E27: 1 Antragssteller-DATEN
E29: Dieses Arbeitsblatt dient ausschließlich der Dateneingabe, es soll nicht ausgedruckt werden.
E30: Der Antragsteller muss seine Adresse, eine Kontaktperson sowie die Bankverbindung eintragen.
E32: 2 Antrag
E34: Mit diesem Arbeitsblatt wird der Antrag auf Bezuschussung der Bildungsmaßnahme gemäß Richtlinie B gestellt. Antrag nicht ausdrucken, Datei digital per E-Mail übermitteln!
E35: In diesem Arbeitsblatt müssen Daten der Maßnahme wie Art der Maßnahme, Datum, Anzahl der Teilnehmen*innen und Betreuer*innen eingetragen werden.
E36: Die Standards zum Kinderschutz und die Fördergrundsätze des KJR müssen durch Ankreuzen bestätigt werden.
E37: Für einen Antrag ist es erforderlich, dass im Arbeitsblatt "1 Antragsteller-DATEN" alle Daten eingetragen sind.
E39: 3.1 Abrechnung-DATEN
E41: Dieses Arbeitsblatt dient ausschließlich der Dateneingabe, es soll der Abrechnung nicht beigefügt und nicht ausgedruckt werden.
... E49: Dateneingaben sind nicht möglich, die Zellen sind gesperrt und füllen sich automatisch mit den Daten aus den Arbeitsblättern "1 Antragsteller-DATEN" und "3.1 Abrechnung-DATEN".
D53: Eingabe von Daten
D55: Für die Eingabe von Daten sind folgende Arbeitsblätter vorgesehen:
E57: 1 Antragssteller-DATEN
E59: 2 Antrag
E61: 3.1 Abrechnung-DATEN
D63: Die Eingabe von Daten ist ausschließlich für weiße Eingabefelder vorgesehen und nur dort möglich, die Zellen sind entsprechend auszuwählen.
D65: Beispiele für Eingabefelder: | I65: Max | N65: Mustermann
I66: Vorname | N66: Name
I69: 00000 | L69: Musterstadt
I70: PLZ | L70: Ort
D72: Die Arbeitsblätter "2 Antrag" und "3.1 Abrechnung-Daten" sind weitgehend identisch, dies erleichtert das "Finden" von Datenfeldern und das Weiterverarbeiten der Daten.
D73: Dadurch, dass beide Arbeitsblätter weitgehend indentisch sind, gibt es in den Arbeitsblättern Eingabefelder, die für den jeweiligen Prozess der Beantragung bzw. Abrechnung nicht notwendig sind,
D74: sie können übersprungen werden. Daten, die für den jeweiligen Prozess benötigt werden, sind wie folgt markiert: die Bezeichnung ist "fett" geschrieben und mit einem * versehen, die Zeile
D75: dunkelgrau hinterlegt. Die Bezeichnung von Daten, die für den jeweiligen Prozess nicht benötigt werden, ist in heller und nicht fetter Schrift geschrieben.
D77: Beispiel für die Markierung von Eingabefeldern
D79: Eingabemaske "Veranstaltung" des Arbeitsblattes "2 Antrag" (Prozess der Beantragung)
D82: Status der Maßnahme [Dropdown] | F82: i
D84: Art der Maßnahme * [Dropdown] | F84: i | I84: a. Bildungsmaßnahme mit Übernachtung
D87: Für den Prozess der Beantragung ist die Angabe der "Art der Maßnahme" erforderlich und entsprechend markiert, die Angabe des "Status der Maßnahme" ist für die Beantragung nicht erforderlich.
D89: Dropdownlisten
D91: Bei einigen Eingabefeldern müssen die Eingabewerte aus einer vorgegebene Liste (Dropdownliste) ausgewählt werden. Diese Felder sind mit dem Hinweis "[Dropdown]" gekennzeichnet.
D92: Das Eingabefeld auswählen und mit dem Mauszeiger und einem Klick auf die linke Maustaste die Auswahlliste öffnen, nun den gewünschten Wert mit dem Mauszeiger und einem weiteren Klick
D93: auf die linke Maustaste auswählen, anschließend füllt sich das Feld mit dem entsprechenden Text.
D104: Automatisch füllende Felder
D106: Felder, die sich während der Bearbeitung automatisch mit Daten füllen, sind ähnlich wie Eingabefelder gestaltet und gelb unterlegt. Manuelle Dateneingaben sind dort nicht möglich.
D107: Diese Felder zeigen die Ergebnisse automatischer Berechnungen an.
D108: Einige Felder füllen sich automatisch mit Warnhinweisen, wenn unzulässige Werte eingetragen werden.
D110: Beispiele für automatisch füllende Felder:
D112: Berechnung der Veranstaltungstage (das Ergebnis wird automatisch berechnet, sobald das Start- und Enddatum der Maßnahme eingetragen werden).
D115: Datum / Veranstaltungstage * | F115: i | I115: 45658 | K115: - | L115: 45662 | V115: 5 | Y115: Tag[e]
I116: am / von | L116: bis | P116: manuelle Eingabe Tage
D118: Warnhinweis, dass die Anzahl der förderfähigen Referent*innen überschritten ist, es gilt grundsätzlich ein Referent*innenschlüssel 1:7 Mitarbeiter*innen.
D121: Förderfähige Mitarbeiter*innen * | F121: i | I121: 5 | L121: Förderfähige Mitarbeiter*innen
D123: Förderfähige Referent*innen * | F123: i | I123: 3 | L123: Förderfähige Referent*innen | V123: Die Anzahl der maximal förderfähigen Referent*innen ist überschritten!
D126: Berechnung der Summe der regulären Teilnahmebeiträge (das Ergebnis wird automatisch berechnet, wenn der Beitrag und die Anzahl eingetragen werden).
D129: Reguläre Teilnahmebeiträge * | F129: i | I129: 50 | L129: 14 | V129: 700 | Y129: Gesamtbetrag reguläre Teilnahmebeiträge
I130: Beitrag | L130: Anzahl
D132: Berechnung der Gesamtsumme aller Ausgaben (das Ergebnis wird automatisch im gelben Ergebnisfeld aus den Positionen der Belegliste berechnet sobald dort Eintragungen vorgenommen werden).
D133: Bei der Beantragung muss die voraussichtliche Höhe der Gesamtkosten manuell in das weiße Feld eingetragen werden.
D136: GESAMTSUMME AUSGABEN * | F136: i | P136: 0
P137: Gesamtausgaben
H139: C & P Bereich Richtlinie C - Ende der Markierung
H141: C & P Bereich Belegliste - hier klicken für Start der Markierung
C142: Belegliste der Maßnahme / Gesamtausgaben * | F142: i | V142: 1495.5 | Y142: GESAMTSUMME AUSGABEN (Summe aus Belegliste)
F144: Nr. | I144: Ausgabe | P144: Betrag
C145: [jeden Beleg einzel eintragen, bei mehr als | F145: 1. | I145: Hausrechnung | P145: 1000
C146: 36 Positionen Belege in Kategorien wie z. B. | F146: 2. | I146: Nahrungsmittel | P146: 495.5
D150: Arbeiten mit dem "Copy and Paste" Bereich (Kopieren und Einfügen)
D152: Daten, die bereits bei der Beantragung im Arbeitsblatt
D153: "2 Antrag" eingetragen wurden, können
D154: kopiert und in das Arbeitsblatt
D155: "3.1 Abrechnung-DATEN" eingefügt werden. Dazu kann
D156: der "Copy and Paste" Bereich genutzt werden.
D157: Der Copy and Paste Bereich (C & P Bereich) enthält die
D158: für die Beantragung und Abrechnung relevanten
D159: Maßnahmen-Daten. Der C & P Bereich hat eine hell-
D160: braune Füllfarbe und einen dunkelbraunen Rahmen, er ist
D161: in den beiden Arbeitsblättern identisch, um das Kopieren
D162: in Arbeitsblätter anderer Excel-Dateien der RL C zu
... D189: Für den Ausdruck des Abrechnungsformulars inkl. Anlage "Finanzen" ist folgendes Arbeitsblatt vorgesehen:
E191: 3.2 Abrechnung-DRUCK | G191: für den Ausdruck des Abrechnungsformulars inkl. Anlage Finanzen (2 Seiten)
D193: Beim Ausdrucken des Formulars ist darauf zu achten, dass die Seiten im Hochformat gedruckt werden und jede Seite vollständig auf ein Blatt passt.
D194: Werden die Seiten nicht vollständig auf ein Blatt ausgedruckt, sind die Einstellungen für den Druck anzupassen.
D195: Die Formulare müssen nach dem Ausdrucken unterschrieben werden.
D197: Anpassen der Einstellungen für den Druck
D199: Die Einstellungen für den Druck können wie folgt angepasst werden.
E201: 1. Schritt: mit dem Mauszeiger links oben auf "Datei" klicken 2. Schritt: mit dem Mauszeiger auf "Drucken" klicken
D219: Es öffnen sich die Einstellungen für das Drucken, die hier verändert werden können. Für ein gutes Druckergebnis sollten folgende Optionen gewählt werden: "Einseitige Druck", "Hochformat", "A4".
D220: In der Druckvorschau ist ersichtlich, ob die gewünschten Inhalte auf eine Seite gedruckt werden.
D221: Gibt es einen ungewünschten Seitenumbruch kann die Druckseite verkleinert werden, so dass sie auf einem Blatt gedruckt wird.
E223: 3. Schritt: mit dem Mauszeiger auf die Saklierungsoptionen klicken 4. Schritt: "Blatt auf einer Seite darstellen" wählen
D247: Informationen zu den benötigten Daten und zum Regelwerk des Kreisjugendrings
F249: i | H249: Felder, die mit einem Info-Zeichen gekennzeichnet sind, bieten Informationen zur Eingabe von Daten und zum Regelwerk des Kreisjugendrings.
H250: Mit dem Mauszeiger auf das Infozeichen zeigen (anklicken nicht nötig), anschließen öffnet sich das Kommentarfeld mit den Informationen.

Sheet 1 Antragsteller-DATEN
D3: STAMMDATEN - Antragsteller [Träger der Maßnahme] - Richtlinie C 2026
W4: =ROHDATEN!B3 -> Dateiversion: 17.12.2025
D7: 1. Adressat und Fristen für Anträge und Abrechnungen der Richtlinie C
D9: Anträge und Abrechnungen für die Richtlinie C sind immer direkt an der Kreisjugendring Main Taunus e.V.
D10: zu richten.
D12: Adresse des Kreisjugendrings Main-Taunus e.V.
A14: 1 | D14: Bezeichnung | I14: Kreisjugendring Main-Taunus e.V.
A16: 2 | D16: Straße | I16: Am Stegskreuz 8
A18: 3 | D18: PLZ, Ort | I18: 65719 | L18: Hofheim am Taunus
I19: PLZ | L19: Ort
D20: Fristen Richtlinie C
A22: 4 | D22: Posteingang für Anträge | I22: bis 01.03.2026
A24: 5 | D24: Posteingang für Abrechnungen der Mitgliedsverbände des Kreisjugendrings und deren Untergliederungen | I24: Maßnahmen, die bis zum 15.09.2026 beendet sind, müssen bis zum 15.10.2026 abgerechnet werden. Maßnahmen, die nach dem 15.09.2026 beendet werden, müssen bis zum 15.02.2027 abgerechnet werden. Einzelne Maßnahmen können jederzeit vor den Fristen beim Kreisjugendring abgerechnet werden.
A26: 6 | D26: Posteingang für Abrechnungen von sonstigen freien Trägern der Jugendarbeit | I26: Innerhalb von 6 Wochen nach Beendigung der Maßnahme.
D28: Weitere Informationen
A30: 7 | D30: Telefon | I30: 06192 287010
A32: 8 | D32: eMail | I32: info@kjr-mtk.de
D36: 2. Antragsteller [Träger der Maßnahme]
A38: 9 | D38: Namen [Träger der Maßnahme]
A40: 10 | D40: Abteilung / Kirchort
A42: 11 | D42: Zusatz
A44: 12 | D44: Straße
A46: 13 | D46: PLZ, Ort
I47: PLZ | L47: Ort
D51: 3. Kontaktperson
A53: 14 | D53: Vorname, Name
I54: Vorname | N54: Name
A56: 15 | D56: Telefon
A58: 16 | D58: eMail
D62: 4. Bankverbindung
A64: 17 | D64: Kontoinhaber
A66: 18 | D66: IBAN
A68: 19 | D68: Verwendungszweck / Haushaltsstelle

Sheet 2 Antrag
C3: Antrag auf Förderung einer Bildungsmaßnahme für Mitarbeiter*innen - Richtlinie C 2026
AD4: =ROHDATEN!B3 -> Dateiversion: 17.12.2025
C6: *Bei der Beantragung ist die Dateneingabe in den dunkelgrau markierten Zeilen erforderlich (sofern zutreffend)
D9: Antrag
E11: [Anträge sind in digitaler Form einzureichen, hierfür muss diese Excel-Datei per eMail an den Kreisjugendring übermittelt werden. Zusätzlich zu diesem Arbeitsblatt bitte auch das Arbeitsblatt "1 Antragsteller-DATEN" ausfüllen!]
G13: Wir beantragen für diese Bildungsmaßnahme einen Förderung nach Richtlinie C des Kreisjugendring Main-Taunus.
G15: Wir bestätigen rechtsverbindlich
J17: dass die Fördergrundsätze des KJR zutreffen, insb. dass es sich um eine Veranstaltung handelt, die nicht überwiegend religiösen, sportlichen oder parteipolitischen Charakter hat und nicht von einer Schule veranstaltet wird.
J20: dass sämtlich erhaltene Zuschüsse zur Senkung der Teilnahmebeiträge dienen.
J23: dass wir ein Schutzkonzept zum Kindeswohl umgesetzt haben.
J26: dass bei uns nur Betreuer*innen eingesetzt werden, die einen Verhaltenskodex unterzeichnet haben und von denen ein erweitertes Führungszeugnis vorgelegt wurde, das keine relevanten Eintragungen aufweist (Pflicht nach § 72a SGB VIII).
J29: dass die Maßnahme fristgerecht gemäß des gültigen Regelwerkes des KJR MTK abgerechnet wird.
A32: 1 | D32: Ort *
A34: 2 | D34: Datum *
A36: 3 | D36: Name/n in Druckbuchstabe, Funktion/en *
D40: Veranstaltung | N40: Zu Beginn der Bearbeitung die Daten im Arbeitsblatt "1 Antragsteller-DATEN" eintragen! | AA40: Automatische Berechnungen von Daten
A42: 4 | D42: Antrag Nr. | K42: i | N42: 1
M44: C & P Bereich Richtlinie C - hier klicken für Start der Markierung
A46: 5 | D46: Antragsteller [Träger der Maßnahme] *
N47: Träger der Maßnahme
A49: 6 | D49: Titel der Maßnahme *
N50: Titel der Maßnahme
A52: 7 | D52: Status der Maßnahme [Dropdown] | K52: i
A54: 8 | D54: Art der Maßnahme * [Dropdown] | K54: i
A56: 9 | D56: Datum / Veranstaltungstage * | K56: i | N56: 46023 | P56: - | AA56: =IF(N56="",0,IF(Q56="",1,Q56-N56+1)) -> 1 | AD56: Tag[e]
N57: am / von | Q57: bis | U57: manuelle Eingabe Tage
A59: 10 | D59: Für hybride Maßnahmen Aufschlüsselung der Tage | K59: i | AA59: =IF(N54="d. Hybride Bildungsmaßnahme",IF(AND((N59+Q59+U59)<>AA56,(N59+Q59+U59)<>U56)," Die Anzahl der Tage stimmt nicht mit den Datumsangaben oder der Eingabe der Tage überein!",""),"")
N60: mit Übernachtung | Q60: ohne Übernachtung | U60: digital
A62: 11 | D62: Name der Bildungsstätte * | K62: i
A64: 12 | D64: Straße
A66: 13 | D66: PLZ Ort *
N67: PLZ | Q67: Ort
A69: 14 | D69: Land *
D73: Personen | K73: i | AA73: Automatische Berechnungen von Daten bzw. Überprüfungen der Eingaben
A75: 15 | D75: Förderfähige Mitarbeiter*innen * | K75: i | Q75: Förderfähige Mitarbeiter*innen
A77: 16 | D77: Förderfähige Referent*innen * | K77: i | Q77: Förderfähige Referent*innen | AA77: =IF(N77="","",IF(AND(N75>14,N77<=ROUNDUP(N75/7,0)),"",IF(AND(AND(N75<15,N75>=3),N77<3),""," Die Anzahl der maximal förderfähigen Referent*innen ist überschritten!")))
A79: 19 | D79: Personen mit Honorar | K79: i | Q79: Personen mit Honorar
A81: 20 | D81: Sonstige Personen ohne Förderung | K81: i | Q81: Sonstige Personen ohne Förderung | AA81: =N75+N77+N79+N81 -> 0 | AD81: GESAMTZAHL PERSONEN (Zahl identisch mit Teilnahmeliste)
D85: Einnahmen [ohne Zuschüsse KJR MTK] | K85: i | AA85: Automatische Berechnungen von Daten
A87: 21 | D87: Reguläre Teilnahmebeiträge * | K87: i | N87: 0 | Q87: 0 | AA87: =N87*Q87 -> 0 | AD87: Gesamtbetrag reguläre Teilnahmebeiträge
N88: Beitrag | Q88: Anzahl
A90: 22 | D90: Reduzierte Teilnahmebeiträge 1 [Dropdown] | K90: i | N90: 0 | Q90: 0 | AA90: =N90*Q90 -> 0 | AD90: Gesamtbetrag reduzierte Teilnahmebeiträge 1
N91: Reduzierter Beitrag 1 | Q91: Anzahl
A92: 23
N93: Bezeichnung reduzierte Teilnahmebeiträge 1
A95: 24 | D95: Reduzierte Teilnahmebeiträge 2 [Dropdown] | K95: i | N95: 0 | Q95: 0 | AA95: =N95*Q95 -> 0 | AD95: Gesamtbetrag reduzierte Teilnahmebeiträge 2
N96: Reduzierter Beitrag 2 | Q96: Anzahl
A97: 25
N98: Bezeichnung reduzierte Teilnahmebeiträge 2
A100: 26 | D100: Reduzierte Teilnahmebeiträge 3 [Dropdown] | K100: i | N100: 0 | Q100: 0 | AA100: =N100*Q100 -> 0 | AD100: Gesamtbetrag reduzierte Teilnahmebeiträge 3
N101: Reduzierter Beitrag 3 | Q101: Anzahl
A102: 27
N103: Bezeichnung reduzierte Teilnahmebeiträge 3
A105: 28 | D105: Reduzierte Teilnahmebeiträge 4 [Dropdown] | K105: i | N105: 0 | Q105: 0 | AA105: =N105*Q105 -> 0 | AD105: Gesamtbetrag reduzierte Teilnahmebeiträge 4
N106: Reduzierter Beitrag 4 | Q106: Anzahl
A107: 29
N108: Bezeichnung reduzierte Teilnahmebeiträge 4
A110: 30 | D110: Reduzierte Teilnahmebeiträge 5 [Dropdown] | K110: i | N110: 0 | Q110: 0 | AA110: =N110*Q110 -> 0 | AD110: Gesamtbetrag reduzierte Teilnahmebeiträge 5
N111: Reduzierter Beitrag 5 | Q111: Anzahl
A112: 31
N113: Bezeichnung reduzierte Teilnahmebeiträge 5
A115: 32 | D115: Öffentliche Zuschüsse | K115: i | U115: 0
N116: Bezeichnung öffentliche Zuschüsse | U116: Betrag
A118: 33 | D118: Sonstige Zuschüsse | K118: i | U118: 0
N119: Bezeichnung sonstige Zuschüsse | U119: Betrag
A121: 34 | D121: Sonstige Einnahmen 1 | K121: i | U121: 0
N122: Bezeichnung sonstige Einnahmen 1 | U122: Betrag
A124: 35 | D124: Sonstige Einnahmen 2 | K124: i | U124: 0 | AA124: =AA87+AA90+AA95+AA100+AA105+AA110+U115+U118+U121+U124 -> 0 | AD124: GESAMTSUMME EINNAHMEN
N125: Bezeichnung sonstige Einnahmen 2 | U125: Betrag
D129: Ausgaben / Kosten | K129: i | AA129: Automatische Berechnungen von Daten
A131: 36 | D131: Höhe der Honorarkosten * | K131: i | U131: 0
U132: Honorarkosten
A134: 37 | D134: GESAMTSUMME AUSGABEN * | K134: i | U134: 0
U135: Gesamtausgaben
M137: C & P Bereich Richtlinie C - Ende der Markierung
M139: C & P Bereich Belegliste - hier klicken für Start der Markierung
A140: 38 | D140: Belegliste der Maßnahme / Gesamtausgaben | K140: i | AA140: =SUM(U143:U178) -> 0 | AD140: GESAMTSUMME AUSGABEN (Summe aus Belegliste)
K142: Nr. | N142: Ausgabe | U142: Betrag
D143: [jeden Beleg einzel eintragen, bei mehr als 36 Positionen Belege bitte in Kategorien wie z.B. Übernachtung, Nahrungsmittel, Reisekosten, Programmkosten, Honorare, Versicherungen etc. zusammenfassen und als separate Liste beifügen] | K143: 1. | U143: 0
K144: 2. | U144: 0
K145: 3. | U145: 0
K146: 4. | U146: 0
K147: 5. | U147: 0
K148: 6. | U148: 0
K149: 7. | U149: 0
K150: 8. | U150: 0
K151: 9. | U151: 0
K152: 10. | U152: 0
K153: 11. | U153: 0
K154: 12. | U154: 0
K155: 13. | U155: 0
... K178: 36. | U178: 0
M180: C & P Bereich Belegliste - Ende der Markierung
D184: Programm, Inhalte und Methoden | K184: i
A186: 39 | D186: Beschreibung und Ziele der Maßnahme [max. 400 Zeichen] | K186: i
A188: 40 | D188: Zielgruppe der Maßnahme [u.a. Alter und Funktion, max. 300 Zeichen] | K188: i
N190: Name | R190: Alter | S190: Qualifikation | AE190: Funktion
A191: 41 | D191: Referent*innen | K191: i
N197: Tag | O197: Uhrzeit | R197: Inhalte und eingesetzte Methoden | AE197: Referenten
A198: 42 | D198: Zeitplan und Inhalte | K198: i
...

Sheet 3.1 Abrechnung-DATEN
C3: DATEN - Abrechnung einer Bildungsmaßnahme für Mitarbeiter*innen - Richtlinie C 2026
AD4: =ROHDATEN!B3 -> Dateiversion: 17.12.2025
C6: *Bei der Abrechnung ist die Dateneingabe in den dunkelgrau markierten Zeilen erforderlich (sofern zutreffend)
D9: Abrechnung
E11: [Abrechnungen sind in Papierform einzureichen, hierfür ist das Abrechnungsformular inkl. Anlage "Finanzen" auszudrucken und gemeinsam mit den weiteren Unterlagen in Papierform an den Kreisjugendring zu senden.]
G15: Wir bestätigen rechtsverbindlich
J17: dass die Fördergrundsätze des KJR zutreffen, insb. dass es sich um eine Veranstaltung handelte, die nicht überwiegend religiösen, sportlichen oder parteipolitischen Charakter hatte und nicht von einer Schule veranstaltet wurde.
J20: dass sämtlich erhaltene Zuschüsse zur Senkung der Teilnahmebeiträge dienen.
J23: dass wir ein Schutzkonzept zum Kindeswohl umgesetzt haben.
J26: dass bei uns nur Betreuer*innen eingesetzt werden, die einen Verhaltenskodex unterzeichnet haben und von denen ein erweitertes Führungszeugnis vorgelegt wurde, das keine relevanten Eintragungen aufweist (Pflicht nach § 72a SGB VIII).
J29: dass die Originalbelege zu Prüfzwecken bei uns eingesehen werden können und 10 Jahre ordnungsgemäß aufbewahrt werden.
A32: 1 | D32: Ort *
A34: 2 | D34: Datum *
A36: 3 | D36: Name/n in Druckbuchstabe, Funktion/en *
D40: Veranstaltung | N40: Zu Beginn der Bearbeitung die Daten im Arbeitsblatt "1 Antragsteller-DATEN" eintragen! | AA40: Automatische Berechnungen von Daten
A42: 4 | D42: Antrag Nr. | K42: i | N42: 1
M44: C & P Bereich Richtlinie C - hier klicken für Start der Markierung
A46: 5 | D46: Antragsteller [Träger der Maßnahme] *
N47: Träger der Maßnahme
A49: 6 | D49: Titel der Maßnahme *
N50: Titel der Maßnahme
A52: 7 | D52: Status der Maßnahme * [Dropdown] | K52: i
A54: 8 | D54: Art der Maßnahme * [Dropdown] | K54: i
A56: 9 | D56: Datum / Veranstaltungstage * | K56: i | N56: 46023 | P56: - | AA56: =IF(N56="",0,IF(Q56="",1,Q56-N56+1)) -> 1 | AD56: Tag[e]
N57: am / von | Q57: bis | U57: manuelle Eingabe Tage
A59: 10 | D59: Für hybride Maßnahmen Aufschlüsselung der Tage | K59: i | AA59: =IF(N54="d. Hybride Bildungsmaßnahme",IF(AND((N59+Q59+U59)<>AA56,(N59+Q59+U59)<>U56)," Die Anzahl der Tage stimmt nicht mit den Datumsangaben oder der Eingabe der Tage überein!",""),"")
N60: mit Übernachtung | Q60: ohne Übernachtung | U60: digital
A62: 11 | D62: Name der Bildungsstätte * | K62: i
A64: 12 | D64: Straße
A66: 13 | D66: PLZ Ort *
N67: PLZ | Q67: Ort
A69: 14 | D69: Land *
D73: Personen | K73: i | AA73: Automatische Berechnungen von Daten bzw. Überprüfungen der Eingaben
A75: 15 | D75: Förderfähige Mitarbeiter*innen * | K75: i | Q75: Förderfähige Mitarbeiter*innen
A77: 16 | D77: Förderfähige Referent*innen * | K77: i | Q77: Förderfähige Referent*innen | AA77: =IF(N77="","",IF(AND(N75>14,N77<=ROUNDUP(N75/7,0)),"",IF(AND(AND(N75<15,N75>=3),N77<3),""," Die Anzahl der maximal förderfähigen Referent*innen ist überschritten!")))
A79: 19 | D79: Personen mit Honorar * | K79: i | Q79: Personen mit Honorar
A81: 20 | D81: Sonstige Personen ohne Förderung * | K81: i | Q81: Sonstige Personen ohne Förderung | AA81: =N75+N77+N79+N81 -> 0 | AD81: GESAMTZAHL PERSONEN (Zahl identisch mit Teilnahmeliste)
D85: Einnahmen [ohne Zuschüsse KJR MTK] | K85: i | AA85: Automatische Berechnungen von Daten
A87: 21 | D87: Reguläre Teilnahmebeiträge * | K87: i | N87: 0 | Q87: 0 | AA87: =N87*Q87 -> 0 | AD87: Gesamtbetrag reguläre Teilnahmebeiträge
N88: Beitrag | Q88: Anzahl
A90: 22 | D90: Reduzierte Teilnahmebeiträge 1 * [Dropdown] | K90: i | N90: 0 | Q90: 0 | AA90: =N90*Q90 -> 0 | AD90: Gesamtbetrag reduzierte Teilnahmebeiträge 1
N91: Reduzierter Beitrag 1 | Q91: Anzahl
A92: 23
N93: Bezeichnung reduzierte Teilnahmebeiträge 1
A95: 24 | D95: Reduzierte Teilnahmebeiträge 2 * [Dropdown] | K95: i | N95: 0 | Q95: 0 | AA95: =N95*Q95 -> 0 | AD95: Gesamtbetrag reduzierte Teilnahmebeiträge 2
N96: Reduzierter Beitrag 2 | Q96: Anzahl
A97: 25
N98: Bezeichnung reduzierte Teilnahmebeiträge 2
A100: 26 | D100: Reduzierte Teilnahmebeiträge 3 * [Dropdown] | K100: i | N100: 0 | Q100: 0 | AA100: =N100*Q100 -> 0 | AD100: Gesamtbetrag reduzierte Teilnahmebeiträge 3
N101: Reduzierter Beitrag 3 | Q101: Anzahl
A102: 27
N103: Bezeichnung reduzierte Teilnahmebeiträge 3
A105: 28 | D105: Reduzierte Teilnahmebeiträge 4 * [Dropdown] | K105: i | N105: 0 | Q105: 0 | AA105: =N105*Q105 -> 0 | AD105: Gesamtbetrag reduzierte Teilnahmebeiträge 4
N106: Reduzierter Beitrag 4 | Q106: Anzahl
A107: 29
N108: Bezeichnung reduzierte Teilnahmebeiträge 4
A110: 30 | D110: Reduzierte Teilnahmebeiträge 5 * [Dropdown] | K110: i | N110: 0 | Q110: 0 | AA110: =N110*Q110 -> 0 | AD110: Gesamtbetrag reduzierte Teilnahmebeiträge 5
N111: Reduzierter Beitrag 5 | Q111: Anzahl
A112: 31
N113: Bezeichnung reduzierte Teilnahmebeiträge 5
A115: 32 | D115: Öffentliche Zuschüsse * | K115: i | U115: 0
N116: Bezeichnung öffentliche Zuschüsse | U116: Betrag
A118: 33 | D118: Sonstige Zuschüsse * | K118: i | U118: 0
N119: Bezeichnung sonstige Zuschüsse | U119: Betrag
A121: 34 | D121: Sonstige Einnahmen 1 * | K121: i | U121: 0
N122: Bezeichnung sonstige Einnahmen 1 | U122: Betrag
A124: 35 | D124: Sonstige Einnahmen 2 * | K124: i | U124: 0 | AA124: =AA87+AA90+AA95+AA100+AA105+AA110+U115+U118+U121+U124 -> 0 | AD124: GESAMTSUMME EINNAHMEN
N125: Bezeichnung sonstige Einnahmen 2 | U125: Betrag
D129: Ausgaben / Kosten | K129: i | AA129: Automatische Berechnungen von Daten
A131: 36 | D131: Höhe der Honorarkosten | K131: i | U131: 0
U132: Honorarkosten
A134: 37 | D134: GESAMTSUMME AUSGABEN * | K134: i | U134: 0
U135: Gesamtausgaben
M137: C & P Bereich Richtlinie C - Ende der Markierung
M139: C & P Bereich Belegliste - hier klicken für Start der Markierung
A140: 38 | D140: Belegliste der Maßnahme / Gesamtausgaben * | K140: i | AA140: =SUM(U143:U178) -> 0 | AD140: GESAMTSUMME AUSGABEN (Summe aus Belegliste)
K142: Nr. | N142: Ausgabe | U142: Betrag
D143: [jeden Beleg einzel eintragen, bei mehr als 36 Positionen Belege bitte in Kategorien wie z.B. Übernachtung, Nahrungsmittel, Reisekosten, Programmkosten, Honorare, Versicherungen etc. zusammenfassen und als separate Liste beifügen] | K143: 1. | U143: 0
K144: 2. | U144: 0
K145: 3. | U145: 0
K146: 4. | U146: 0
K147: 5. | U147: 0
K148: 6. | U148: 0
K149: 7. | U149: 0
K150: 8. | U150: 0
K151: 9. | U151: 0
K152: 10. | U152: 0
K153: 11. | U153: 0
K154: 12. | U154: 0
K155: 13. | U155: 0
... K178: 36. | U178: 0
M180: C & P Bereich Belegliste - Ende der Markierung

Sheet 3.2 Abrechnung-DRUCK
B2: =ROHDATEN!B3 -> Dateiversion: 17.12.2025 | X2: Träger der Maßnahme:
T3: Name | X3: =IF('1 Antragsteller-DATEN'!I38=0,"",'1 Antragsteller-DATEN'!I38)
T4: Abteilung/Kirchort | X4: =IF('1 Antragsteller-DATEN'!I40=0,"",'1 Antragsteller-DATEN'!I40)
T5: Zusatz | X5: =IF('1 Antragsteller-DATEN'!I42=0,"",'1 Antragsteller-DATEN'!I42)
T6: Straße | X6: =IF('1 Antragsteller-DATEN'!I44=0,"",'1 Antragsteller-DATEN'!I44)
T7: PLZ, Ort | X7: =IF('1 Antragsteller-DATEN'!I46=0,"",'1 Antragsteller-DATEN'!I46) | AA7: =IF('1 Antragsteller-DATEN'!L46=0,"",'1 Antragsteller-DATEN'!L46)
T8: Kontaktperson | X8: =IF('1 Antragsteller-DATEN'!I53=0,"",'1 Antragsteller-DATEN'!I53) | AB8: =IF('1 Antragsteller-DATEN'!N53=0,"",'1 Antragsteller-DATEN'!N53)
T9: Telefon | X9: =IF('1 Antragsteller-DATEN'!I56=0,"",'1 Antragsteller-DATEN'!I56)
T10: eMail | X10: =IF('1 Antragsteller-DATEN'!I58=0,"",'1 Antragsteller-DATEN'!I58)
X11: Bankverbindung
C12: Kreisjugendring Main-Taunus e.V. | T12: Kontoinhaber | X12: =IF('1 Antragsteller-DATEN'!I64=0,"",'1 Antragsteller-DATEN'!I64)
C13: Am Stegskreuz 8 | T13: IBAN | X13: =IF('1 Antragsteller-DATEN'!I66=0,"",'1 Antragsteller-DATEN'!I66)
C14: 65719 Hofheim | T14: Haushaltsstelle/VWZ | X14: =IF('1 Antragsteller-DATEN'!I68=0,"",'1 Antragsteller-DATEN'!I68)
C17: Abrechnung einer Bildungsmaßnahme für Mitarbeiter*innen (Richtlinie C)
C19: =IF('3.1 Abrechnung-DATEN'!N49=0,"",'3.1 Abrechnung-DATEN'!N49) | V19: ='3.1 Abrechnung-DATEN'!N56 -> 46023 | X19: - | Y19: =IF('3.1 Abrechnung-DATEN'!Q56=0,"",'3.1 Abrechnung-DATEN'!Q56) | AC19: =IF(OR('3.1 Abrechnung-DATEN'!U56=0,'3.1 Abrechnung-DATEN'!U56=""),'3.1 Abrechnung-DATEN'!AA56,'3.1 Abrechnung-DATEN'!U56) -> 1 | AD19: Tag[e]
C20: Titel der Veranstaltung | V20: am / von | Y20: bis | AC20: inkl. An- und Abreisetag
C22: =IF('3.1 Abrechnung-DATEN'!N62=0,"",'3.1 Abrechnung-DATEN'!N62) | M22: =IF('3.1 Abrechnung-DATEN'!N64=0,"",'3.1 Abrechnung-DATEN'!N64) | V22: =IF('3.1 Abrechnung-DATEN'!N66=0,"",'3.1 Abrechnung-DATEN'!N66) | W22: =IF('3.1 Abrechnung-DATEN'!Q66=0,"",'3.1 Abrechnung-DATEN'!Q66) | AB22: =IF('3.1 Abrechnung-DATEN'!N69=0,"",'3.1 Abrechnung-DATEN'!N69)
C23: Ort, Anschrift des Hauses, Zeltplatzes oder Ziel der Unternehmung
C25: Art der Maßnahme
F27: =IF('3.1 Abrechnung-DATEN'!N54=0,"",'3.1 Abrechnung-DATEN'!N54)
F29: =IF('3.1 Abrechnung-DATEN'!N54="d. Hybride Bildungsmaßnahme",'3.1 Abrechnung-DATEN'!N59,"") | G29: =IF('3.1 Abrechnung-DATEN'!N54="d. Hybride Bildungsmaßnahme"," Tag[e] mit Übernachtung","") | N29: =IF('3.1 Abrechnung-DATEN'!N54="d. Hybride Bildungsmaßnahme",'3.1 Abrechnung-DATEN'!Q59,"") | P29: =IF('3.1 Abrechnung-DATEN'!N54="d. Hybride Bildungsmaßnahme"," Tag[e] ohne Übernachtung","") | X29: =IF('3.1 Abrechnung-DATEN'!N54="d. Hybride Bildungsmaßnahme",'3.1 Abrechnung-DATEN'!U59,"") | Z29: =IF('3.1 Abrechnung-DATEN'!N54="d. Hybride Bildungsmaßnahme"," Tag[e] digital","")
C31: Teilnehmende Personen
H33: ='3.1 Abrechnung-DATEN'!N75 -> 0 | K33: Förderfähige Mitarbeiter*innen [Tätigkeit in der Jugendarbeit im MTK] | T33: ='3.1 Abrechnung-DATEN'!N77 -> 0 | V33: Förderfähige Refernt*innen [gemäß Schlüssel der Richtlinie]
H36: ='3.1 Abrechnung-DATEN'!N81 -> 0 | K36: sonstige Personen ohne Förderung | T36: ='3.1 Abrechnung-DATEN'!N79 -> 0 | V36: Personen mit Honorar [Honorarverträge wurden vor der Maßnahme abgeschlossen]
H39: ='3.1 Abrechnung-DATEN'!AA81 -> 0 | K39: Personen insgesamt [Zahl identisch mit Teilnahmeliste und Übernachtungsrechnungen]
C42: Finanzen (Details siehe Anlage Finanzen)
F44: Gesamteinnahmen | AC44: ='3.1 Abrechnung-DATEN'!AA124 -> 0
F45: Gesamtausgaben | AC45: ='3.1 Abrechnung-DATEN'!AA140 -> 0
F46: vorläufiges Ergebnis (ohne Zuschüsse des KJR MTK) | AC46: ='3.1 Abrechnung-DATEN'!AA124-'3.1 Abrechnung-DATEN'!AA140 -> 0
C48: Wir bestätigen mit rechtsverbindlicher Unterschrift (Punkte separat ankreuzen!)
F50: dass die Fördergrundsätze des KJR zutreffen, insb. dass es sich um eine Veranstaltung handelte, die nicht überwiegend religiösen, sportlichen oder parteipolitischen Charakter hatte und nicht von einer Schule veranstaltet wurde.
D51: =IF('3.1 Abrechnung-DATEN'!H17=0,"",'3.1 Abrechnung-DATEN'!H17)
F53: dass sämtliche erhaltene Zuschüsse zur Senkung der Teilnahmebeiträge dienen.
D54: =IF('3.1 Abrechnung-DATEN'!H20=0,"",'3.1 Abrechnung-DATEN'!H20)
F56: dass wir ein Schutzkonzept zum Kindeswohl umgesetzt haben.
D57: =IF('3.1 Abrechnung-DATEN'!H23=0,"",'3.1 Abrechnung-DATEN'!H23)
F59: dass bei uns nur Betreuer*innen eingesetzt werden, die einen Verhaltenskodex unterzeichnet haben und von denen ein erweitertes Führungszeugnis vorgelegt wurde, das keine relevanten Eintragungen aufweist (Pflicht nach § 72a SGB VIII).
D60: =IF('3.1 Abrechnung-DATEN'!H26=0,"",'3.1 Abrechnung-DATEN'!H26)
F62: dass die Originalbelege zu Prüfzwecken bei uns eingesehen werden können und 10 Jahre ordnungsgemäß aufbewahrt werden.
D63: =IF('3.1 Abrechnung-DATEN'!H29=0,"",'3.1 Abrechnung-DATEN'!H29)
C66: Der Abrechnung sind die Anlage "Finanzen", die Kopien der Kostenbelege und die Teilnahmeliste beigefügt.
C68: =IF('3.1 Abrechnung-DATEN'!N32=0,"",'3.1 Abrechnung-DATEN'!N32) | M68: =IF('3.1 Abrechnung-DATEN'!N34=0,"",'3.1 Abrechnung-DATEN'!N34) | AA68: =IF('3.1 Abrechnung-DATEN'!N36=0,"",'3.1 Abrechnung-DATEN'!N36)
C69: Ort | M69: Datum | R69: Unterschrift/en des Trägers | AA69: Name/n + Funktion (Druckbuchstaben)
B72: =ROHDATEN!B3 -> Dateiversion: 17.12.2025 | X72: Träger der Maßnahme:
T73: Name | X73: =IF('1 Antragsteller-DATEN'!I38=0,"",'1 Antragsteller-DATEN'!I38)
T74: Abteilung/Kirchort | X74: =IF('1 Antragsteller-DATEN'!I40=0,"",'1 Antragsteller-DATEN'!I40)
T75: Zusatz | X75: =IF('1 Antragsteller-DATEN'!I42=0,"",'1 Antragsteller-DATEN'!I42)
T76: PLZ, Ort | X76: =IF('1 Antragsteller-DATEN'!I46=0,"",'1 Antragsteller-DATEN'!I46) | AA76: =IF('1 Antragsteller-DATEN'!L46=0,"",'1 Antragsteller-DATEN'!L46)
C78: Anlage "Finanzen"
C79: zur Abrechnung einer Bildungsmaßnahme für Mitarbeiter*innen (Richtlinie C)
C81: =IF('3.1 Abrechnung-DATEN'!N49=0,"",'3.1 Abrechnung-DATEN'!N49) | V81: ='3.1 Abrechnung-DATEN'!N56 -> 46023 | X81: - | Y81: =IF('3.1 Abrechnung-DATEN'!Q56=0,"",'3.1 Abrechnung-DATEN'!Q56) | AC81: =IF(OR('3.1 Abrechnung-DATEN'!U56=0,'3.1 Abrechnung-DATEN'!U56=""),'3.1 Abrechnung-DATEN'!AA56,'3.1 Abrechnung-DATEN'!U56) -> 1 | AD81: Tag[e]
C82: Titel der Veranstaltung | V82: am / von | Y82: bis | AC82: inkl. An- und Abreisetag
C84: =IF('3.1 Abrechnung-DATEN'!N62=0,"",'3.1 Abrechnung-DATEN'!N62) | M84: =IF('3.1 Abrechnung-DATEN'!N64=0,"",'3.1 Abrechnung-DATEN'!N64) | V84: =IF('3.1 Abrechnung-DATEN'!N66=0,"",'3.1 Abrechnung-DATEN'!N66) | W84: =IF('3.1 Abrechnung-DATEN'!Q66=0,"",'3.1 Abrechnung-DATEN'!Q66) | AB84: =IF('3.1 Abrechnung-DATEN'!N69=0,"",'3.1 Abrechnung-DATEN'!N69)
C85: Ort, Anschrift des Hauses, Zeltplatzes oder Ziel der Unternehmung
C87: EINNAHMEN
D89: Teilnahmebeiträge
W90: Anzahl | Y90: Betrag | AC90: Gesamt
E92: Regulärer Teilnahmebeitrag (maximaler Teilnahmebeitrag) | W92: ='3.1 Abrechnung-DATEN'!Q87 -> 0 | Y92: ='3.1 Abrechnung-DATEN'!N87 -> 0 | AC92: ='3.1 Abrechnung-DATEN'!AA87 -> 0
E94: Reduzierter Teilnahmebeitrag 1 | N94: ='3.1 Abrechnung-DATEN'!N92 -> 0 | W94: ='3.1 Abrechnung-DATEN'!Q90 -> 0 | Y94: ='3.1 Abrechnung-DATEN'!N90 -> 0 | AC94: ='3.1 Abrechnung-DATEN'!AA90 -> 0
E95: Reduzierter Teilnahmebeitrag 2 | N95: ='3.1 Abrechnung-DATEN'!N97 -> 0 | W95: ='3.1 Abrechnung-DATEN'!Q95 -> 0 | Y95: ='3.1 Abrechnung-DATEN'!N95 -> 0 | AC95: ='3.1 Abrechnung-DATEN'!AA95 -> 0
E96: Reduzierter Teilnahmebeitrag 3 | N96: ='3.1 Abrechnung-DATEN'!N102 -> 0 | W96: ='3.1 Abrechnung-DATEN'!Q100 -> 0 | Y96: ='3.1 Abrechnung-DATEN'!N100 -> 0 | AC96: ='3.1 Abrechnung-DATEN'!AA100 -> 0
E97: Reduzierter Teilnahmebeitrag 4 | N97: ='3.1 Abrechnung-DATEN'!N107 -> 0 | W97: ='3.1 Abrechnung-DATEN'!Q105 -> 0 | Y97: ='3.1 Abrechnung-DATEN'!N105 -> 0 | AC97: ='3.1 Abrechnung-DATEN'!AA105 -> 0
E98: Reduzierter Teilnahmebeitrag 5 | N98: ='3.1 Abrechnung-DATEN'!N112 -> 0 | W98: ='3.1 Abrechnung-DATEN'!Q110 -> 0 | Y98: ='3.1 Abrechnung-DATEN'!N110 -> 0 | AC98: ='3.1 Abrechnung-DATEN'!AA110 -> 0
D100: Zuschüsse Dritter
E102: Öffentliche Zuschüsse [z. B. Stadt, Gemeinde] | Q102: =IF('3.1 Abrechnung-DATEN'!N115=0,"",'3.1 Abrechnung-DATEN'!N115) | AC102: ='3.1 Abrechnung-DATEN'!U115 -> 0
E103: Sonstige Zuschüsse [z. B. Verband] | Q103: =IF('3.1 Abrechnung-DATEN'!N118=0,"",'3.1 Abrechnung-DATEN'!N118) | AC103: ='3.1 Abrechnung-DATEN'!U118 -> 0
D105: Sonstige Einnahmen
E107: Sonstige Einnahmen 1 | Q107: =IF('3.1 Abrechnung-DATEN'!N121=0,"",'3.1 Abrechnung-DATEN'!N121) | AC107: ='3.1 Abrechnung-DATEN'!U121 -> 0
E108: Sonstige Einnahmen 2 | Q108: =IF('3.1 Abrechnung-DATEN'!N124=0,"",'3.1 Abrechnung-DATEN'!N124) | AC108: ='3.1 Abrechnung-DATEN'!U124 -> 0
D110: Gesamteinnahmen [vorläufig, ohne Zuschüsse des KJR MTK] | AC110: ='3.1 Abrechnung-DATEN'!AA124 -> 0
C112: AUSGABEN
D114: Belegliste [jeden Beleg einzel aufführen, bei mehr als 36 Positionen Kostenbelege zusammenfassen und separate Liste beifügen]
D116: Nr. | F116: Ausgabe | N116: Betrag | T116: Nr. | U116: Ausgabe | AC116: Betrag
D117: 1 | F117: =IF('3.1 Abrechnung-DATEN'!N143=0,"",'3.1 Abrechnung-DATEN'!N143) | N117: ='3.1 Abrechnung-DATEN'!U143 -> 0 | T117: 19 | U117: =IF('3.1 Abrechnung-DATEN'!N161=0,"",'3.1 Abrechnung-DATEN'!N161) | AC117: ='3.1 Abrechnung-DATEN'!U161 -> 0
D118: 2 | F118: =IF('3.1 Abrechnung-DATEN'!N144=0,"",'3.1 Abrechnung-DATEN'!N144) | N118: ='3.1 Abrechnung-DATEN'!U144 -> 0 | T118: 20 | U118: =IF('3.1 Abrechnung-DATEN'!N162=0,"",'3.1 Abrechnung-DATEN'!N162) | AC118: ='3.1 Abrechnung-DATEN'!U162 -> 0
D119: 3 | F119: =IF('3.1 Abrechnung-DATEN'!N145=0,"",'3.1 Abrechnung-DATEN'!N145) | N119: ='3.1 Abrechnung-DATEN'!U145 -> 0 | T119: 21 | U119: =IF('3.1 Abrechnung-DATEN'!N163=0,"",'3.1 Abrechnung-DATEN'!N163) | AC119: ='3.1 Abrechnung-DATEN'!U163 -> 0
D120: 4 | F120: =IF('3.1 Abrechnung-DATEN'!N146=0,"",'3.1 Abrechnung-DATEN'!N146) | N120: ='3.1 Abrechnung-DATEN'!U146 -> 0 | T120: 22 | U120: =IF('3.1 Abrechnung-DATEN'!N164=0,"",'3.1 Abrechnung-DATEN'!N164) | AC120: ='3.1 Abrechnung-DATEN'!U164 -> 0
D121: 5 | F121: =IF('3.1 Abrechnung-DATEN'!N147=0,"",'3.1 Abrechnung-DATEN'!N147) | N121: ='3.1 Abrechnung-DATEN'!U147 -> 0 | T121: 23 | U121: =IF('3.1 Abrechnung-DATEN'!N165=0,"",'3.1 Abrechnung-DATEN'!N165) | AC121: ='3.1 Abrechnung-DATEN'!U165 -> 0
D122: 6 | F122: =IF('3.1 Abrechnung-DATEN'!N148=0,"",'3.1 Abrechnung-DATEN'!N148) | N122: ='3.1 Abrechnung-DATEN'!U148 -> 0 | T122: 24 | U122: =IF('3.1 Abrechnung-DATEN'!N166=0,"",'3.1 Abrechnung-DATEN'!N166) | AC122: ='3.1 Abrechnung-DATEN'!U166 -> 0
D123: 7 | F123: =IF('3.1 Abrechnung-DATEN'!N149=0,"",'3.1 Abrechnung-DATEN'!N149) | N123: ='3.1 Abrechnung-DATEN'!U149 -> 0 | T123: 25 | U123: =IF('3.1 Abrechnung-DATEN'!N167=0,"",'3.1 Abrechnung-DATEN'!N167) | AC123: ='3.1 Abrechnung-DATEN'!U167 -> 0
D124: 8 | F124: =IF('3.1 Abrechnung-DATEN'!N150=0,"",'3.1 Abrechnung-DATEN'!N150) | N124: ='3.1 Abrechnung-DATEN'!U150 -> 0 | T124: 26 | U124: =IF('3.1 Abrechnung-DATEN'!N168=0,"",'3.1 Abrechnung-DATEN'!N168) | AC124: ='3.1 Abrechnung-DATEN'!U168 -> 0
D125: 9 | F125: =IF('3.1 Abrechnung-DATEN'!N151=0,"",'3.1 Abrechnung-DATEN'!N151) | N125: ='3.1 Abrechnung-DATEN'!U151 -> 0 | T125: 27 | U125: =IF('3.1 Abrechnung-DATEN'!N169=0,"",'3.1 Abrechnung-DATEN'!N169) | AC125: ='3.1 Abrechnung-DATEN'!U169 -> 0
D126: 10 | F126: =IF('3.1 Abrechnung-DATEN'!N152=0,"",'3.1 Abrechnung-DATEN'!N152) | N126: ='3.1 Abrechnung-DATEN'!U152 -> 0 | T126: 28 | U126: =IF('3.1 Abrechnung-DATEN'!N170=0,"",'3.1 Abrechnung-DATEN'!N170) | AC126: ='3.1 Abrechnung-DATEN'!U170 -> 0
D127: 11 | F127: =IF('3.1 Abrechnung-DATEN'!N153=0,"",'3.1 Abrechnung-DATEN'!N153) | N127: ='3.1 Abrechnung-DATEN'!U153 -> 0 | T127: 29 | U127: =IF('3.1 Abrechnung-DATEN'!N171=0,"",'3.1 Abrechnung-DATEN'!N171) | AC127: ='3.1 Abrechnung-DATEN'!U171 -> 0
D128: 12 | F128: =IF('3.1 Abrechnung-DATEN'!N154=0,"",'3.1 Abrechnung-DATEN'!N154) | N128: ='3.1 Abrechnung-DATEN'!U154 -> 0 | T128: 30 | U128: =IF('3.1 Abrechnung-DATEN'!N172=0,"",'3.1 Abrechnung-DATEN'!N172) | AC128: ='3.1 Abrechnung-DATEN'!U172 -> 0
... D134: 18 | F134: =IF('3.1 Abrechnung-DATEN'!N160=0,"",'3.1 Abrechnung-DATEN'!N160) | N134: ='3.1 Abrechnung-DATEN'!U160 -> 0 | T134: 36 | U134: =IF('3.1 Abrechnung-DATEN'!N178=0,"",'3.1 Abrechnung-DATEN'!N178) | AC134: ='3.1 Abrechnung-DATEN'!U178 -> 0
D136: Gesamtausgaben | AC136: ='3.1 Abrechnung-DATEN'!AA140 -> 0
C138: ERGEBNIS [vorläufig, ohne Zuschüsse des KJR MTK] | AC138: ='3.1 Abrechnung-DATEN'!AA124-'3.1 Abrechnung-DATEN'!AA140 -> 0
C140: Ich/wir bestätigen mit rechtsverbindlicher Unterschrift die Richtigkeit der gemachten Angaben.
C142: =IF('3.1 Abrechnung-DATEN'!N32=0,"",'3.1 Abrechnung-DATEN'!N32) | M142: =IF('3.1 Abrechnung-DATEN'!N34=0,"",'3.1 Abrechnung-DATEN'!N34) | AA142: =IF('3.1 Abrechnung-DATEN'!N36=0,"",'3.1 Abrechnung-DATEN'!N36)
C143: Ort | M143: Datum | R143: Unterschrift/en des Trägers | AA143: Name/n + Funktion (Druckbuchstaben)

Sheet ROHDATEN
A2: Jahr | B2: 2025
A3: Dateiversion | B3: Dateiversion: 17.12.2025
